BEGIN:VCALENDAR
VERSION:2.0
PRODID:-//achurchnearyou.com//eventfeed//EN
CALSCALE:GREGORIAN
METHOD:PUBLISH
X-WR-TIMEZONE:UTC
BEGIN:VEVENT
SUMMARY:March Services
DTSTART:20260219T000000Z
DTEND:20260401T010000Z
DTSTAMP:20260422T040349Z
UID:12963242026-02-19 00:00:00+00:00achurchnearyou
CATEGORIES:
DESCRIPTION:Please click on the attachment to see a list of services acros
 s our Benefice this month
URL:https://www.achurchnearyou.com/church/11652/service-and-events/events/
 1296324/
END:VEVENT
END:VCALENDAR
