BEGIN:VCALENDAR
VERSION:2.0
PRODID:-//achurchnearyou.com//eventfeed//EN
CALSCALE:GREGORIAN
METHOD:PUBLISH
X-WR-TIMEZONE:UTC
BEGIN:VEVENT
SUMMARY:Parish Eucharist with Procession of Palms.
DTSTART:20250413T093000Z
DTEND:20250413T103000Z
DTSTAMP:20260422T050934Z
UID:11846592025-04-13 09:30:00+00:00achurchnearyou
CATEGORIES:
DESCRIPTION:Sung Eucharist with Choir and procession of\nPalms from the Co
 mmunity Hall.\n(Please meet in the Hall)\nPalm Sunday - Holy Week begins.\
 nFr Shaun Baldwin presiding.\nPlease join us\, after the service\, in\nthe
  Community Hall for tea\, coffee\,\nbiscuits and a chat.\n(PLEASE NOTE THA
 T THERE IS NO 8AM SERVICE TODAY)
GEO:-2.816309;53.775252
LOCATION:Saint John the Evangelist - Lund
URL:https://www.achurchnearyou.com/church/11658/service-and-events/events/
 1184659/
END:VEVENT
END:VCALENDAR
