BEGIN:VCALENDAR
VERSION:2.0
PRODID:-//achurchnearyou.com//eventfeed//EN
CALSCALE:GREGORIAN
METHOD:PUBLISH
X-WR-TIMEZONE:UTC
BEGIN:VEVENT
SUMMARY:Eucharist in Newton Bluecoat School.
DTSTART:20260204T100000Z
DTEND:20260204T104500Z
DTSTAMP:20260421T102755Z
UID:12848132026-02-04 10:00:00+00:00achurchnearyou
CATEGORIES:
DESCRIPTION:Eucharist with the children of Newton Bluecoat School.\nFr Sha
 un Baldwin presiding.
LOCATION:Newton Bluecoat School.
URL:https://www.achurchnearyou.com/church/11658/service-and-events/events/
 1284813/
END:VEVENT
END:VCALENDAR
