BEGIN:VCALENDAR
VERSION:2.0
PRODID:-//achurchnearyou.com//eventfeed//EN
CALSCALE:GREGORIAN
METHOD:PUBLISH
X-WR-TIMEZONE:UTC
BEGIN:VEVENT
SUMMARY:All Age Service for Good Friday
DTSTART:20260403T093000Z
DTEND:20260403T103000Z
DTSTAMP:20260423T101154Z
UID:13076582026-04-03 09:30:00+00:00achurchnearyou
CATEGORIES:
DESCRIPTION:Join us for songs\, craft\, prayers and hot cross bun.
GEO:-3.024425;53.747409
LOCATION:St Thomas\, St Anne's
URL:https://www.achurchnearyou.com/church/11664/service-and-events/events/
 1307658/
END:VEVENT
END:VCALENDAR
