BEGIN:VCALENDAR
VERSION:2.0
PRODID:-//achurchnearyou.com//eventfeed//EN
CALSCALE:GREGORIAN
METHOD:PUBLISH
X-WR-TIMEZONE:UTC
BEGIN:VEVENT
SUMMARY:Cross of candles compline service
DTSTART:20260403T190000Z
DTEND:20260403T200000Z
DTSTAMP:20260423T132905Z
UID:13076602026-04-03 19:00:00+00:00achurchnearyou
CATEGORIES:
DESCRIPTION:The cross is laid down\, we light candles. Compline with Taize
  music.
GEO:-3.024425;53.747409
LOCATION:St Thomas\, St Anne's
URL:https://www.achurchnearyou.com/church/11664/service-and-events/events/
 1307660/
END:VEVENT
END:VCALENDAR
