BEGIN:VCALENDAR
VERSION:2.0
PRODID:-//achurchnearyou.com//eventfeed//EN
CALSCALE:GREGORIAN
METHOD:PUBLISH
X-WR-TIMEZONE:UTC
BEGIN:VEVENT
SUMMARY:Easter Sunday Sunrise Service
DTSTART:20260405T050000Z
DTEND:20260405T054500Z
DTSTAMP:20260423T162836Z
UID:11855332026-04-05 05:00:00+00:00achurchnearyou
CATEGORIES:
DESCRIPTION:As we welcome the dawn so we welcome the Resurrection of Jesus
  Christ with a special Drumhead Communion.\nWe then enjoy a large cooked b
 reakfast together at St Christopher's Church Hall.
LOCATION:Arnos Park Hill
URL:https://www.achurchnearyou.com/church/11689/service-and-events/events/
 1185533/
END:VEVENT
END:VCALENDAR
