BEGIN:VCALENDAR
VERSION:2.0
PRODID:-//achurchnearyou.com//eventfeed//EN
CALSCALE:GREGORIAN
METHOD:PUBLISH
X-WR-TIMEZONE:UTC
BEGIN:VEVENT
SUMMARY:Joint Service @ St Cuthbert's on Advent Sunday
DTSTART:20251130T103000Z
DTEND:20251130T113000Z
DTSTAMP:20260424T103748Z
UID:12517162025-11-30 10:30:00+00:00achurchnearyou
CATEGORIES:
DESCRIPTION:At 10\,30am on Sunday 30 November there will be a joint servic
 e for the congregations of St Cuthbert's and St Anne's at St Cuthbert's Ch
 urch.\nDue to the building work being carried out at St Cuthbert's\, this 
 service will take place in the Crypt (church hall) of St Cuthbert's. Acces
 s is via the entrance on Sandringham Road.
LOCATION:St Cuthbert's Church
URL:https://www.achurchnearyou.com/church/11689/service-and-events/events/
 1251716/
END:VEVENT
END:VCALENDAR
