BEGIN:VCALENDAR
VERSION:2.0
PRODID:-//achurchnearyou.com//eventfeed//EN
CALSCALE:GREGORIAN
METHOD:PUBLISH
X-WR-TIMEZONE:UTC
BEGIN:VEVENT
SUMMARY:Family Services
DTSTART;TZID=Europe/London:20260510T110000
DTEND;TZID=Europe/London:20260510T114000
DTSTAMP:20260421T002513Z
UID:159252026-05-10 11:00:00+01:00achurchnearyou
CATEGORIES:
DESCRIPTION:Every 2nd Sunday in the month we hold Family Praise: an inform
 al service welcoming children\, young people and families.
GEO:-0.614991;51.535125
LOCATION:Farnham Royal St Mary the Virgin
URL:https://www.achurchnearyou.com/church/117/service-and-events/events/15
 925/
END:VEVENT
BEGIN:VEVENT
SUMMARY:Family Services
DTSTART;TZID=Europe/London:20260614T110000
DTEND;TZID=Europe/London:20260614T114000
DTSTAMP:20260421T002513Z
UID:159252026-06-14 11:00:00+01:00achurchnearyou
CATEGORIES:
DESCRIPTION:Every 2nd Sunday in the month we hold Family Praise: an inform
 al service welcoming children\, young people and families.
GEO:-0.614991;51.535125
LOCATION:Farnham Royal St Mary the Virgin
URL:https://www.achurchnearyou.com/church/117/service-and-events/events/15
 925/
END:VEVENT
BEGIN:VEVENT
SUMMARY:Family Services
DTSTART;TZID=Europe/London:20260712T110000
DTEND;TZID=Europe/London:20260712T114000
DTSTAMP:20260421T002513Z
UID:159252026-07-12 11:00:00+01:00achurchnearyou
CATEGORIES:
DESCRIPTION:Every 2nd Sunday in the month we hold Family Praise: an inform
 al service welcoming children\, young people and families.
GEO:-0.614991;51.535125
LOCATION:Farnham Royal St Mary the Virgin
URL:https://www.achurchnearyou.com/church/117/service-and-events/events/15
 925/
END:VEVENT
BEGIN:VEVENT
SUMMARY:Family Services
DTSTART;TZID=Europe/London:20260809T110000
DTEND;TZID=Europe/London:20260809T114000
DTSTAMP:20260421T002513Z
UID:159252026-08-09 11:00:00+01:00achurchnearyou
CATEGORIES:
DESCRIPTION:Every 2nd Sunday in the month we hold Family Praise: an inform
 al service welcoming children\, young people and families.
GEO:-0.614991;51.535125
LOCATION:Farnham Royal St Mary the Virgin
URL:https://www.achurchnearyou.com/church/117/service-and-events/events/15
 925/
END:VEVENT
BEGIN:VEVENT
SUMMARY:Family Services
DTSTART;TZID=Europe/London:20260913T110000
DTEND;TZID=Europe/London:20260913T114000
DTSTAMP:20260421T002513Z
UID:159252026-09-13 11:00:00+01:00achurchnearyou
CATEGORIES:
DESCRIPTION:Every 2nd Sunday in the month we hold Family Praise: an inform
 al service welcoming children\, young people and families.
GEO:-0.614991;51.535125
LOCATION:Farnham Royal St Mary the Virgin
URL:https://www.achurchnearyou.com/church/117/service-and-events/events/15
 925/
END:VEVENT
BEGIN:VEVENT
SUMMARY:Family Services
DTSTART;TZID=Europe/London:20261011T110000
DTEND;TZID=Europe/London:20261011T114000
DTSTAMP:20260421T002513Z
UID:159252026-10-11 11:00:00+01:00achurchnearyou
CATEGORIES:
DESCRIPTION:Every 2nd Sunday in the month we hold Family Praise: an inform
 al service welcoming children\, young people and families.
GEO:-0.614991;51.535125
LOCATION:Farnham Royal St Mary the Virgin
URL:https://www.achurchnearyou.com/church/117/service-and-events/events/15
 925/
END:VEVENT
BEGIN:VEVENT
SUMMARY:Family Services
DTSTART;TZID=Europe/London:20261108T110000
DTEND;TZID=Europe/London:20261108T114000
DTSTAMP:20260421T002513Z
UID:159252026-11-08 11:00:00+00:00achurchnearyou
CATEGORIES:
DESCRIPTION:Every 2nd Sunday in the month we hold Family Praise: an inform
 al service welcoming children\, young people and families.
GEO:-0.614991;51.535125
LOCATION:Farnham Royal St Mary the Virgin
URL:https://www.achurchnearyou.com/church/117/service-and-events/events/15
 925/
END:VEVENT
BEGIN:VEVENT
SUMMARY:Family Services
DTSTART;TZID=Europe/London:20261213T110000
DTEND;TZID=Europe/London:20261213T114000
DTSTAMP:20260421T002513Z
UID:159252026-12-13 11:00:00+00:00achurchnearyou
CATEGORIES:
DESCRIPTION:Every 2nd Sunday in the month we hold Family Praise: an inform
 al service welcoming children\, young people and families.
GEO:-0.614991;51.535125
LOCATION:Farnham Royal St Mary the Virgin
URL:https://www.achurchnearyou.com/church/117/service-and-events/events/15
 925/
END:VEVENT
BEGIN:VEVENT
SUMMARY:Family Services
DTSTART;TZID=Europe/London:20270110T110000
DTEND;TZID=Europe/London:20270110T114000
DTSTAMP:20260421T002513Z
UID:159252027-01-10 11:00:00+00:00achurchnearyou
CATEGORIES:
DESCRIPTION:Every 2nd Sunday in the month we hold Family Praise: an inform
 al service welcoming children\, young people and families.
GEO:-0.614991;51.535125
LOCATION:Farnham Royal St Mary the Virgin
URL:https://www.achurchnearyou.com/church/117/service-and-events/events/15
 925/
END:VEVENT
BEGIN:VEVENT
SUMMARY:Family Services
DTSTART;TZID=Europe/London:20270214T110000
DTEND;TZID=Europe/London:20270214T114000
DTSTAMP:20260421T002513Z
UID:159252027-02-14 11:00:00+00:00achurchnearyou
CATEGORIES:
DESCRIPTION:Every 2nd Sunday in the month we hold Family Praise: an inform
 al service welcoming children\, young people and families.
GEO:-0.614991;51.535125
LOCATION:Farnham Royal St Mary the Virgin
URL:https://www.achurchnearyou.com/church/117/service-and-events/events/15
 925/
END:VEVENT
BEGIN:VEVENT
SUMMARY:Family Services
DTSTART;TZID=Europe/London:20270314T110000
DTEND;TZID=Europe/London:20270314T114000
DTSTAMP:20260421T002513Z
UID:159252027-03-14 11:00:00+00:00achurchnearyou
CATEGORIES:
DESCRIPTION:Every 2nd Sunday in the month we hold Family Praise: an inform
 al service welcoming children\, young people and families.
GEO:-0.614991;51.535125
LOCATION:Farnham Royal St Mary the Virgin
URL:https://www.achurchnearyou.com/church/117/service-and-events/events/15
 925/
END:VEVENT
BEGIN:VEVENT
SUMMARY:Family Services
DTSTART;TZID=Europe/London:20270411T110000
DTEND;TZID=Europe/London:20270411T114000
DTSTAMP:20260421T002513Z
UID:159252027-04-11 11:00:00+01:00achurchnearyou
CATEGORIES:
DESCRIPTION:Every 2nd Sunday in the month we hold Family Praise: an inform
 al service welcoming children\, young people and families.
GEO:-0.614991;51.535125
LOCATION:Farnham Royal St Mary the Virgin
URL:https://www.achurchnearyou.com/church/117/service-and-events/events/15
 925/
END:VEVENT
END:VCALENDAR
