BEGIN:VCALENDAR
VERSION:2.0
PRODID:-//achurchnearyou.com//eventfeed//EN
CALSCALE:GREGORIAN
METHOD:PUBLISH
X-WR-TIMEZONE:UTC
BEGIN:VEVENT
SUMMARY:Parish Communion
DTSTART;TZID=Europe/London:20260405T111500
DTEND;TZID=Europe/London:20260405T120000
DTSTAMP:20260421T002145Z
UID:159241775384100.0achurchnearyou
CATEGORIES:
DESCRIPTION:We have Parish Communion every Sunday (except 3rd)
GEO:-0.614991;51.535125
LOCATION:Farnham Royal St Mary the Virgin
URL:https://www.achurchnearyou.com/church/117/service-and-events/events/15
 924/
END:VEVENT
BEGIN:VEVENT
SUMMARY:Family Services
DTSTART;TZID=Europe/London:20260412T110000
DTEND;TZID=Europe/London:20260412T114000
DTSTAMP:20260421T002145Z
UID:159251775988000.0achurchnearyou
CATEGORIES:
DESCRIPTION:Every 2nd Sunday in the month we hold Family Praise: an inform
 al service welcoming children\, young people and families.
GEO:-0.614991;51.535125
LOCATION:Farnham Royal St Mary the Virgin
URL:https://www.achurchnearyou.com/church/117/service-and-events/events/15
 925/
END:VEVENT
BEGIN:VEVENT
SUMMARY:Parish Communion
DTSTART;TZID=Europe/London:20260412T111500
DTEND;TZID=Europe/London:20260412T120000
DTSTAMP:20260421T002145Z
UID:159241775988900.0achurchnearyou
CATEGORIES:
DESCRIPTION:We have Parish Communion every Sunday (except 3rd)
GEO:-0.614991;51.535125
LOCATION:Farnham Royal St Mary the Virgin
URL:https://www.achurchnearyou.com/church/117/service-and-events/events/15
 924/
END:VEVENT
BEGIN:VEVENT
SUMMARY:Parish Communion
DTSTART;TZID=Europe/London:20260419T111500
DTEND;TZID=Europe/London:20260419T120000
DTSTAMP:20260421T002145Z
UID:159241776593700.0achurchnearyou
CATEGORIES:
DESCRIPTION:We have Parish Communion every Sunday (except 3rd)
GEO:-0.614991;51.535125
LOCATION:Farnham Royal St Mary the Virgin
URL:https://www.achurchnearyou.com/church/117/service-and-events/events/15
 924/
END:VEVENT
BEGIN:VEVENT
SUMMARY:Parish Communion
DTSTART;TZID=Europe/London:20260426T111500
DTEND;TZID=Europe/London:20260426T120000
DTSTAMP:20260421T002145Z
UID:159241777198500.0achurchnearyou
CATEGORIES:
DESCRIPTION:We have Parish Communion every Sunday (except 3rd)
GEO:-0.614991;51.535125
LOCATION:Farnham Royal St Mary the Virgin
URL:https://www.achurchnearyou.com/church/117/service-and-events/events/15
 924/
END:VEVENT
BEGIN:VEVENT
SUMMARY:Parish Communion
DTSTART;TZID=Europe/London:20260503T111500
DTEND;TZID=Europe/London:20260503T120000
DTSTAMP:20260421T002145Z
UID:159241777803300.0achurchnearyou
CATEGORIES:
DESCRIPTION:We have Parish Communion every Sunday (except 3rd)
GEO:-0.614991;51.535125
LOCATION:Farnham Royal St Mary the Virgin
URL:https://www.achurchnearyou.com/church/117/service-and-events/events/15
 924/
END:VEVENT
BEGIN:VEVENT
SUMMARY:Family Services
DTSTART;TZID=Europe/London:20260510T110000
DTEND;TZID=Europe/London:20260510T114000
DTSTAMP:20260421T002145Z
UID:159251778407200.0achurchnearyou
CATEGORIES:
DESCRIPTION:Every 2nd Sunday in the month we hold Family Praise: an inform
 al service welcoming children\, young people and families.
GEO:-0.614991;51.535125
LOCATION:Farnham Royal St Mary the Virgin
URL:https://www.achurchnearyou.com/church/117/service-and-events/events/15
 925/
END:VEVENT
BEGIN:VEVENT
SUMMARY:Parish Communion
DTSTART;TZID=Europe/London:20260510T111500
DTEND;TZID=Europe/London:20260510T120000
DTSTAMP:20260421T002145Z
UID:159241778408100.0achurchnearyou
CATEGORIES:
DESCRIPTION:We have Parish Communion every Sunday (except 3rd)
GEO:-0.614991;51.535125
LOCATION:Farnham Royal St Mary the Virgin
URL:https://www.achurchnearyou.com/church/117/service-and-events/events/15
 924/
END:VEVENT
BEGIN:VEVENT
SUMMARY:Parish Communion
DTSTART;TZID=Europe/London:20260517T111500
DTEND;TZID=Europe/London:20260517T120000
DTSTAMP:20260421T002145Z
UID:159241779012900.0achurchnearyou
CATEGORIES:
DESCRIPTION:We have Parish Communion every Sunday (except 3rd)
GEO:-0.614991;51.535125
LOCATION:Farnham Royal St Mary the Virgin
URL:https://www.achurchnearyou.com/church/117/service-and-events/events/15
 924/
END:VEVENT
BEGIN:VEVENT
SUMMARY:Parish Communion
DTSTART;TZID=Europe/London:20260524T111500
DTEND;TZID=Europe/London:20260524T120000
DTSTAMP:20260421T002145Z
UID:159241779617700.0achurchnearyou
CATEGORIES:
DESCRIPTION:We have Parish Communion every Sunday (except 3rd)
GEO:-0.614991;51.535125
LOCATION:Farnham Royal St Mary the Virgin
URL:https://www.achurchnearyou.com/church/117/service-and-events/events/15
 924/
END:VEVENT
BEGIN:VEVENT
SUMMARY:Parish Communion
DTSTART;TZID=Europe/London:20260531T111500
DTEND;TZID=Europe/London:20260531T120000
DTSTAMP:20260421T002145Z
UID:159241780222500.0achurchnearyou
CATEGORIES:
DESCRIPTION:We have Parish Communion every Sunday (except 3rd)
GEO:-0.614991;51.535125
LOCATION:Farnham Royal St Mary the Virgin
URL:https://www.achurchnearyou.com/church/117/service-and-events/events/15
 924/
END:VEVENT
BEGIN:VEVENT
SUMMARY:Parish Communion
DTSTART;TZID=Europe/London:20260607T111500
DTEND;TZID=Europe/London:20260607T120000
DTSTAMP:20260421T002145Z
UID:159241780827300.0achurchnearyou
CATEGORIES:
DESCRIPTION:We have Parish Communion every Sunday (except 3rd)
GEO:-0.614991;51.535125
LOCATION:Farnham Royal St Mary the Virgin
URL:https://www.achurchnearyou.com/church/117/service-and-events/events/15
 924/
END:VEVENT
BEGIN:VEVENT
SUMMARY:Family Services
DTSTART;TZID=Europe/London:20260614T110000
DTEND;TZID=Europe/London:20260614T114000
DTSTAMP:20260421T002145Z
UID:159251781431200.0achurchnearyou
CATEGORIES:
DESCRIPTION:Every 2nd Sunday in the month we hold Family Praise: an inform
 al service welcoming children\, young people and families.
GEO:-0.614991;51.535125
LOCATION:Farnham Royal St Mary the Virgin
URL:https://www.achurchnearyou.com/church/117/service-and-events/events/15
 925/
END:VEVENT
BEGIN:VEVENT
SUMMARY:Parish Communion
DTSTART;TZID=Europe/London:20260614T111500
DTEND;TZID=Europe/London:20260614T120000
DTSTAMP:20260421T002145Z
UID:159241781432100.0achurchnearyou
CATEGORIES:
DESCRIPTION:We have Parish Communion every Sunday (except 3rd)
GEO:-0.614991;51.535125
LOCATION:Farnham Royal St Mary the Virgin
URL:https://www.achurchnearyou.com/church/117/service-and-events/events/15
 924/
END:VEVENT
BEGIN:VEVENT
SUMMARY:Parish Communion
DTSTART;TZID=Europe/London:20260621T111500
DTEND;TZID=Europe/London:20260621T120000
DTSTAMP:20260421T002145Z
UID:159241782036900.0achurchnearyou
CATEGORIES:
DESCRIPTION:We have Parish Communion every Sunday (except 3rd)
GEO:-0.614991;51.535125
LOCATION:Farnham Royal St Mary the Virgin
URL:https://www.achurchnearyou.com/church/117/service-and-events/events/15
 924/
END:VEVENT
BEGIN:VEVENT
SUMMARY:Parish Communion
DTSTART;TZID=Europe/London:20260628T111500
DTEND;TZID=Europe/London:20260628T120000
DTSTAMP:20260421T002145Z
UID:159241782641700.0achurchnearyou
CATEGORIES:
DESCRIPTION:We have Parish Communion every Sunday (except 3rd)
GEO:-0.614991;51.535125
LOCATION:Farnham Royal St Mary the Virgin
URL:https://www.achurchnearyou.com/church/117/service-and-events/events/15
 924/
END:VEVENT
BEGIN:VEVENT
SUMMARY:Parish Communion
DTSTART;TZID=Europe/London:20260705T111500
DTEND;TZID=Europe/London:20260705T120000
DTSTAMP:20260421T002145Z
UID:159241783246500.0achurchnearyou
CATEGORIES:
DESCRIPTION:We have Parish Communion every Sunday (except 3rd)
GEO:-0.614991;51.535125
LOCATION:Farnham Royal St Mary the Virgin
URL:https://www.achurchnearyou.com/church/117/service-and-events/events/15
 924/
END:VEVENT
BEGIN:VEVENT
SUMMARY:Family Services
DTSTART;TZID=Europe/London:20260712T110000
DTEND;TZID=Europe/London:20260712T114000
DTSTAMP:20260421T002145Z
UID:159251783850400.0achurchnearyou
CATEGORIES:
DESCRIPTION:Every 2nd Sunday in the month we hold Family Praise: an inform
 al service welcoming children\, young people and families.
GEO:-0.614991;51.535125
LOCATION:Farnham Royal St Mary the Virgin
URL:https://www.achurchnearyou.com/church/117/service-and-events/events/15
 925/
END:VEVENT
BEGIN:VEVENT
SUMMARY:Parish Communion
DTSTART;TZID=Europe/London:20260712T111500
DTEND;TZID=Europe/London:20260712T120000
DTSTAMP:20260421T002145Z
UID:159241783851300.0achurchnearyou
CATEGORIES:
DESCRIPTION:We have Parish Communion every Sunday (except 3rd)
GEO:-0.614991;51.535125
LOCATION:Farnham Royal St Mary the Virgin
URL:https://www.achurchnearyou.com/church/117/service-and-events/events/15
 924/
END:VEVENT
BEGIN:VEVENT
SUMMARY:Parish Communion
DTSTART;TZID=Europe/London:20260719T111500
DTEND;TZID=Europe/London:20260719T120000
DTSTAMP:20260421T002145Z
UID:159241784456100.0achurchnearyou
CATEGORIES:
DESCRIPTION:We have Parish Communion every Sunday (except 3rd)
GEO:-0.614991;51.535125
LOCATION:Farnham Royal St Mary the Virgin
URL:https://www.achurchnearyou.com/church/117/service-and-events/events/15
 924/
END:VEVENT
BEGIN:VEVENT
SUMMARY:Parish Communion
DTSTART;TZID=Europe/London:20260726T111500
DTEND;TZID=Europe/London:20260726T120000
DTSTAMP:20260421T002145Z
UID:159241785060900.0achurchnearyou
CATEGORIES:
DESCRIPTION:We have Parish Communion every Sunday (except 3rd)
GEO:-0.614991;51.535125
LOCATION:Farnham Royal St Mary the Virgin
URL:https://www.achurchnearyou.com/church/117/service-and-events/events/15
 924/
END:VEVENT
BEGIN:VEVENT
SUMMARY:Parish Communion
DTSTART;TZID=Europe/London:20260802T111500
DTEND;TZID=Europe/London:20260802T120000
DTSTAMP:20260421T002145Z
UID:159241785665700.0achurchnearyou
CATEGORIES:
DESCRIPTION:We have Parish Communion every Sunday (except 3rd)
GEO:-0.614991;51.535125
LOCATION:Farnham Royal St Mary the Virgin
URL:https://www.achurchnearyou.com/church/117/service-and-events/events/15
 924/
END:VEVENT
BEGIN:VEVENT
SUMMARY:Family Services
DTSTART;TZID=Europe/London:20260809T110000
DTEND;TZID=Europe/London:20260809T114000
DTSTAMP:20260421T002145Z
UID:159251786269600.0achurchnearyou
CATEGORIES:
DESCRIPTION:Every 2nd Sunday in the month we hold Family Praise: an inform
 al service welcoming children\, young people and families.
GEO:-0.614991;51.535125
LOCATION:Farnham Royal St Mary the Virgin
URL:https://www.achurchnearyou.com/church/117/service-and-events/events/15
 925/
END:VEVENT
BEGIN:VEVENT
SUMMARY:Parish Communion
DTSTART;TZID=Europe/London:20260809T111500
DTEND;TZID=Europe/London:20260809T120000
DTSTAMP:20260421T002145Z
UID:159241786270500.0achurchnearyou
CATEGORIES:
DESCRIPTION:We have Parish Communion every Sunday (except 3rd)
GEO:-0.614991;51.535125
LOCATION:Farnham Royal St Mary the Virgin
URL:https://www.achurchnearyou.com/church/117/service-and-events/events/15
 924/
END:VEVENT
BEGIN:VEVENT
SUMMARY:Parish Communion
DTSTART;TZID=Europe/London:20260816T111500
DTEND;TZID=Europe/London:20260816T120000
DTSTAMP:20260421T002145Z
UID:159241786875300.0achurchnearyou
CATEGORIES:
DESCRIPTION:We have Parish Communion every Sunday (except 3rd)
GEO:-0.614991;51.535125
LOCATION:Farnham Royal St Mary the Virgin
URL:https://www.achurchnearyou.com/church/117/service-and-events/events/15
 924/
END:VEVENT
BEGIN:VEVENT
SUMMARY:Parish Communion
DTSTART;TZID=Europe/London:20260823T111500
DTEND;TZID=Europe/London:20260823T120000
DTSTAMP:20260421T002145Z
UID:159241787480100.0achurchnearyou
CATEGORIES:
DESCRIPTION:We have Parish Communion every Sunday (except 3rd)
GEO:-0.614991;51.535125
LOCATION:Farnham Royal St Mary the Virgin
URL:https://www.achurchnearyou.com/church/117/service-and-events/events/15
 924/
END:VEVENT
BEGIN:VEVENT
SUMMARY:Parish Communion
DTSTART;TZID=Europe/London:20260830T111500
DTEND;TZID=Europe/London:20260830T120000
DTSTAMP:20260421T002145Z
UID:159241788084900.0achurchnearyou
CATEGORIES:
DESCRIPTION:We have Parish Communion every Sunday (except 3rd)
GEO:-0.614991;51.535125
LOCATION:Farnham Royal St Mary the Virgin
URL:https://www.achurchnearyou.com/church/117/service-and-events/events/15
 924/
END:VEVENT
BEGIN:VEVENT
SUMMARY:Parish Communion
DTSTART;TZID=Europe/London:20260906T111500
DTEND;TZID=Europe/London:20260906T120000
DTSTAMP:20260421T002145Z
UID:159241788689700.0achurchnearyou
CATEGORIES:
DESCRIPTION:We have Parish Communion every Sunday (except 3rd)
GEO:-0.614991;51.535125
LOCATION:Farnham Royal St Mary the Virgin
URL:https://www.achurchnearyou.com/church/117/service-and-events/events/15
 924/
END:VEVENT
BEGIN:VEVENT
SUMMARY:Family Services
DTSTART;TZID=Europe/London:20260913T110000
DTEND;TZID=Europe/London:20260913T114000
DTSTAMP:20260421T002145Z
UID:159251789293600.0achurchnearyou
CATEGORIES:
DESCRIPTION:Every 2nd Sunday in the month we hold Family Praise: an inform
 al service welcoming children\, young people and families.
GEO:-0.614991;51.535125
LOCATION:Farnham Royal St Mary the Virgin
URL:https://www.achurchnearyou.com/church/117/service-and-events/events/15
 925/
END:VEVENT
BEGIN:VEVENT
SUMMARY:Parish Communion
DTSTART;TZID=Europe/London:20260913T111500
DTEND;TZID=Europe/London:20260913T120000
DTSTAMP:20260421T002145Z
UID:159241789294500.0achurchnearyou
CATEGORIES:
DESCRIPTION:We have Parish Communion every Sunday (except 3rd)
GEO:-0.614991;51.535125
LOCATION:Farnham Royal St Mary the Virgin
URL:https://www.achurchnearyou.com/church/117/service-and-events/events/15
 924/
END:VEVENT
BEGIN:VEVENT
SUMMARY:Parish Communion
DTSTART;TZID=Europe/London:20260920T111500
DTEND;TZID=Europe/London:20260920T120000
DTSTAMP:20260421T002145Z
UID:159241789899300.0achurchnearyou
CATEGORIES:
DESCRIPTION:We have Parish Communion every Sunday (except 3rd)
GEO:-0.614991;51.535125
LOCATION:Farnham Royal St Mary the Virgin
URL:https://www.achurchnearyou.com/church/117/service-and-events/events/15
 924/
END:VEVENT
BEGIN:VEVENT
SUMMARY:Parish Communion
DTSTART;TZID=Europe/London:20260927T111500
DTEND;TZID=Europe/London:20260927T120000
DTSTAMP:20260421T002145Z
UID:159241790504100.0achurchnearyou
CATEGORIES:
DESCRIPTION:We have Parish Communion every Sunday (except 3rd)
GEO:-0.614991;51.535125
LOCATION:Farnham Royal St Mary the Virgin
URL:https://www.achurchnearyou.com/church/117/service-and-events/events/15
 924/
END:VEVENT
END:VCALENDAR
