BEGIN:VCALENDAR
VERSION:2.0
PRODID:-//achurchnearyou.com//eventfeed//EN
CALSCALE:GREGORIAN
METHOD:PUBLISH
X-WR-TIMEZONE:UTC
BEGIN:VEVENT
SUMMARY:Christmas Tree Festival
DTSTART;TZID=Europe/London:20251217T100000
DTEND;TZID=Europe/London:20251217T130000
DTSTAMP:20260424T060149Z
UID:12393162025-12-17 10:00:00+00:00achurchnearyou
CATEGORIES:
DESCRIPTION:The Christmas Tree Festival runs from Wednesday 17th to Friday
  19th December from 2-5pm and on Saturday 20th December from 10am -1pm. Fr
 ee Entry. Improptu carols will be sung!
GEO:-2.630617;51.50634
LOCATION:St Mary's church\, Henbury
URL:https://www.achurchnearyou.com/church/11714/service-and-events/events/
 1239316/
END:VEVENT
BEGIN:VEVENT
SUMMARY:Christmas Tree Festival
DTSTART;TZID=Europe/London:20251218T100000
DTEND;TZID=Europe/London:20251218T130000
DTSTAMP:20260424T060149Z
UID:12393162025-12-18 10:00:00+00:00achurchnearyou
CATEGORIES:
DESCRIPTION:The Christmas Tree Festival runs from Wednesday 17th to Friday
  19th December from 2-5pm and on Saturday 20th December from 10am -1pm. Fr
 ee Entry. Improptu carols will be sung!
GEO:-2.630617;51.50634
LOCATION:St Mary's church\, Henbury
URL:https://www.achurchnearyou.com/church/11714/service-and-events/events/
 1239316/
END:VEVENT
BEGIN:VEVENT
SUMMARY:Christmas Tree Festival
DTSTART;TZID=Europe/London:20251219T100000
DTEND;TZID=Europe/London:20251219T130000
DTSTAMP:20260424T060149Z
UID:12393162025-12-19 10:00:00+00:00achurchnearyou
CATEGORIES:
DESCRIPTION:The Christmas Tree Festival runs from Wednesday 17th to Friday
  19th December from 2-5pm and on Saturday 20th December from 10am -1pm. Fr
 ee Entry. Improptu carols will be sung!
GEO:-2.630617;51.50634
LOCATION:St Mary's church\, Henbury
URL:https://www.achurchnearyou.com/church/11714/service-and-events/events/
 1239316/
END:VEVENT
END:VCALENDAR
