BEGIN:VCALENDAR
VERSION:2.0
PRODID:-//achurchnearyou.com//eventfeed//EN
CALSCALE:GREGORIAN
METHOD:PUBLISH
X-WR-TIMEZONE:UTC
BEGIN:VEVENT
SUMMARY:6am Easter Sunday
DTSTART:20260405T050000Z
DTEND:20260405T060000Z
DTSTAMP:20260422T095122Z
UID:12865212026-04-05 05:00:00+00:00achurchnearyou
CATEGORIES:
DESCRIPTION:A dawn service including a simple celebration of Communion\, s
 tarting outside the church around a small fire!
GEO:-2.635609;51.476784
LOCATION:St Mary Magdalene\, Stoke Bishop
URL:https://www.achurchnearyou.com/church/11724/service-and-events/events/
 1286521/
END:VEVENT
END:VCALENDAR
