BEGIN:VCALENDAR
VERSION:2.0
PRODID:-//achurchnearyou.com//eventfeed//EN
CALSCALE:GREGORIAN
METHOD:PUBLISH
X-WR-TIMEZONE:UTC
BEGIN:VEVENT
SUMMARY:Youth Night - 7:00pm - 9:00pm
DTSTART;TZID=Europe/London:20260320T070000
DTEND;TZID=Europe/London:20260320T090000
DTSTAMP:20260421T104646Z
UID:13104742026-03-20 07:00:00+00:00achurchnearyou
CATEGORIES:
DESCRIPTION:A chance to come and relax and hang out at the end of the week
  for year 7-13. We play games\, have snacks\, Bible Study. All welcome!
GEO:-2.5892045227539073;51.479341404017234
LOCATION:B&A Church Bristol
URL:https://www.babristol.org/youth
END:VEVENT
BEGIN:VEVENT
SUMMARY:Youth Night - 7:00pm - 9:00pm
DTSTART;TZID=Europe/London:20260424T070000
DTEND;TZID=Europe/London:20260424T090000
DTSTAMP:20260421T104646Z
UID:13104742026-04-24 07:00:00+01:00achurchnearyou
CATEGORIES:
DESCRIPTION:A chance to come and relax and hang out at the end of the week
  for year 7-13. We play games\, have snacks\, Bible Study. All welcome!
GEO:-2.5892045227539073;51.479341404017234
LOCATION:B&A Church Bristol
URL:https://www.babristol.org/youth
END:VEVENT
BEGIN:VEVENT
SUMMARY:Youth Night - 7:00pm - 9:00pm
DTSTART;TZID=Europe/London:20260501T070000
DTEND;TZID=Europe/London:20260501T090000
DTSTAMP:20260421T104646Z
UID:13104742026-05-01 07:00:00+01:00achurchnearyou
CATEGORIES:
DESCRIPTION:A chance to come and relax and hang out at the end of the week
  for year 7-13. We play games\, have snacks\, Bible Study. All welcome!
GEO:-2.5892045227539073;51.479341404017234
LOCATION:B&A Church Bristol
URL:https://www.babristol.org/youth
END:VEVENT
BEGIN:VEVENT
SUMMARY:Youth Night - 7:00pm - 9:00pm
DTSTART;TZID=Europe/London:20260515T070000
DTEND;TZID=Europe/London:20260515T090000
DTSTAMP:20260421T104646Z
UID:13104742026-05-15 07:00:00+01:00achurchnearyou
CATEGORIES:
DESCRIPTION:A chance to come and relax and hang out at the end of the week
  for year 7-13. We play games\, have snacks\, Bible Study. All welcome!
GEO:-2.5892045227539073;51.479341404017234
LOCATION:B&A Church Bristol
URL:https://www.babristol.org/youth
END:VEVENT
END:VCALENDAR
