BEGIN:VCALENDAR
VERSION:2.0
PRODID:-//achurchnearyou.com//eventfeed//EN
CALSCALE:GREGORIAN
METHOD:PUBLISH
X-WR-TIMEZONE:UTC
BEGIN:VEVENT
SUMMARY:Holy Communion (BCP) followed by Open House
DTSTART;TZID=Europe/London:20260423T094500
DTEND;TZID=Europe/London:20260423T101500
DTSTAMP:20260420T191042Z
UID:3790162026-04-23 09:45:00+01:00achurchnearyou
CATEGORIES:
DESCRIPTION:Service followed by coffee and cake\, all welcome.  Come to on
 e or the other or both!
GEO:-2.259042;51.439035
LOCATION:St John the Baptist
URL:https://www.achurchnearyou.com/church/11762/service-and-events/events/
 379016/
END:VEVENT
BEGIN:VEVENT
SUMMARY:Holy Communion (BCP) followed by Open House
DTSTART;TZID=Europe/London:20260430T094500
DTEND;TZID=Europe/London:20260430T101500
DTSTAMP:20260420T191042Z
UID:3790162026-04-30 09:45:00+01:00achurchnearyou
CATEGORIES:
DESCRIPTION:Service followed by coffee and cake\, all welcome.  Come to on
 e or the other or both!
GEO:-2.259042;51.439035
LOCATION:St John the Baptist
URL:https://www.achurchnearyou.com/church/11762/service-and-events/events/
 379016/
END:VEVENT
BEGIN:VEVENT
SUMMARY:Holy Communion (BCP) followed by Open House
DTSTART;TZID=Europe/London:20260507T094500
DTEND;TZID=Europe/London:20260507T101500
DTSTAMP:20260420T191042Z
UID:3790162026-05-07 09:45:00+01:00achurchnearyou
CATEGORIES:
DESCRIPTION:Service followed by coffee and cake\, all welcome.  Come to on
 e or the other or both!
GEO:-2.259042;51.439035
LOCATION:St John the Baptist
URL:https://www.achurchnearyou.com/church/11762/service-and-events/events/
 379016/
END:VEVENT
BEGIN:VEVENT
SUMMARY:Holy Communion (BCP) followed by Open House
DTSTART;TZID=Europe/London:20260514T094500
DTEND;TZID=Europe/London:20260514T101500
DTSTAMP:20260420T191042Z
UID:3790162026-05-14 09:45:00+01:00achurchnearyou
CATEGORIES:
DESCRIPTION:Service followed by coffee and cake\, all welcome.  Come to on
 e or the other or both!
GEO:-2.259042;51.439035
LOCATION:St John the Baptist
URL:https://www.achurchnearyou.com/church/11762/service-and-events/events/
 379016/
END:VEVENT
BEGIN:VEVENT
SUMMARY:Holy Communion (BCP) followed by Open House
DTSTART;TZID=Europe/London:20260521T094500
DTEND;TZID=Europe/London:20260521T101500
DTSTAMP:20260420T191042Z
UID:3790162026-05-21 09:45:00+01:00achurchnearyou
CATEGORIES:
DESCRIPTION:Service followed by coffee and cake\, all welcome.  Come to on
 e or the other or both!
GEO:-2.259042;51.439035
LOCATION:St John the Baptist
URL:https://www.achurchnearyou.com/church/11762/service-and-events/events/
 379016/
END:VEVENT
BEGIN:VEVENT
SUMMARY:Holy Communion (BCP) followed by Open House
DTSTART;TZID=Europe/London:20260528T094500
DTEND;TZID=Europe/London:20260528T101500
DTSTAMP:20260420T191042Z
UID:3790162026-05-28 09:45:00+01:00achurchnearyou
CATEGORIES:
DESCRIPTION:Service followed by coffee and cake\, all welcome.  Come to on
 e or the other or both!
GEO:-2.259042;51.439035
LOCATION:St John the Baptist
URL:https://www.achurchnearyou.com/church/11762/service-and-events/events/
 379016/
END:VEVENT
BEGIN:VEVENT
SUMMARY:Holy Communion (BCP) followed by Open House
DTSTART;TZID=Europe/London:20260604T094500
DTEND;TZID=Europe/London:20260604T101500
DTSTAMP:20260420T191042Z
UID:3790162026-06-04 09:45:00+01:00achurchnearyou
CATEGORIES:
DESCRIPTION:Service followed by coffee and cake\, all welcome.  Come to on
 e or the other or both!
GEO:-2.259042;51.439035
LOCATION:St John the Baptist
URL:https://www.achurchnearyou.com/church/11762/service-and-events/events/
 379016/
END:VEVENT
BEGIN:VEVENT
SUMMARY:Holy Communion (BCP) followed by Open House
DTSTART;TZID=Europe/London:20260611T094500
DTEND;TZID=Europe/London:20260611T101500
DTSTAMP:20260420T191042Z
UID:3790162026-06-11 09:45:00+01:00achurchnearyou
CATEGORIES:
DESCRIPTION:Service followed by coffee and cake\, all welcome.  Come to on
 e or the other or both!
GEO:-2.259042;51.439035
LOCATION:St John the Baptist
URL:https://www.achurchnearyou.com/church/11762/service-and-events/events/
 379016/
END:VEVENT
BEGIN:VEVENT
SUMMARY:Holy Communion (BCP) followed by Open House
DTSTART;TZID=Europe/London:20260618T094500
DTEND;TZID=Europe/London:20260618T101500
DTSTAMP:20260420T191042Z
UID:3790162026-06-18 09:45:00+01:00achurchnearyou
CATEGORIES:
DESCRIPTION:Service followed by coffee and cake\, all welcome.  Come to on
 e or the other or both!
GEO:-2.259042;51.439035
LOCATION:St John the Baptist
URL:https://www.achurchnearyou.com/church/11762/service-and-events/events/
 379016/
END:VEVENT
BEGIN:VEVENT
SUMMARY:Holy Communion (BCP) followed by Open House
DTSTART;TZID=Europe/London:20260625T094500
DTEND;TZID=Europe/London:20260625T101500
DTSTAMP:20260420T191042Z
UID:3790162026-06-25 09:45:00+01:00achurchnearyou
CATEGORIES:
DESCRIPTION:Service followed by coffee and cake\, all welcome.  Come to on
 e or the other or both!
GEO:-2.259042;51.439035
LOCATION:St John the Baptist
URL:https://www.achurchnearyou.com/church/11762/service-and-events/events/
 379016/
END:VEVENT
BEGIN:VEVENT
SUMMARY:Holy Communion (BCP) followed by Open House
DTSTART;TZID=Europe/London:20260702T094500
DTEND;TZID=Europe/London:20260702T101500
DTSTAMP:20260420T191042Z
UID:3790162026-07-02 09:45:00+01:00achurchnearyou
CATEGORIES:
DESCRIPTION:Service followed by coffee and cake\, all welcome.  Come to on
 e or the other or both!
GEO:-2.259042;51.439035
LOCATION:St John the Baptist
URL:https://www.achurchnearyou.com/church/11762/service-and-events/events/
 379016/
END:VEVENT
BEGIN:VEVENT
SUMMARY:Holy Communion (BCP) followed by Open House
DTSTART;TZID=Europe/London:20260709T094500
DTEND;TZID=Europe/London:20260709T101500
DTSTAMP:20260420T191042Z
UID:3790162026-07-09 09:45:00+01:00achurchnearyou
CATEGORIES:
DESCRIPTION:Service followed by coffee and cake\, all welcome.  Come to on
 e or the other or both!
GEO:-2.259042;51.439035
LOCATION:St John the Baptist
URL:https://www.achurchnearyou.com/church/11762/service-and-events/events/
 379016/
END:VEVENT
BEGIN:VEVENT
SUMMARY:Holy Communion (BCP) followed by Open House
DTSTART;TZID=Europe/London:20260716T094500
DTEND;TZID=Europe/London:20260716T101500
DTSTAMP:20260420T191042Z
UID:3790162026-07-16 09:45:00+01:00achurchnearyou
CATEGORIES:
DESCRIPTION:Service followed by coffee and cake\, all welcome.  Come to on
 e or the other or both!
GEO:-2.259042;51.439035
LOCATION:St John the Baptist
URL:https://www.achurchnearyou.com/church/11762/service-and-events/events/
 379016/
END:VEVENT
BEGIN:VEVENT
SUMMARY:Holy Communion (BCP) followed by Open House
DTSTART;TZID=Europe/London:20260723T094500
DTEND;TZID=Europe/London:20260723T101500
DTSTAMP:20260420T191042Z
UID:3790162026-07-23 09:45:00+01:00achurchnearyou
CATEGORIES:
DESCRIPTION:Service followed by coffee and cake\, all welcome.  Come to on
 e or the other or both!
GEO:-2.259042;51.439035
LOCATION:St John the Baptist
URL:https://www.achurchnearyou.com/church/11762/service-and-events/events/
 379016/
END:VEVENT
BEGIN:VEVENT
SUMMARY:Holy Communion (BCP) followed by Open House
DTSTART;TZID=Europe/London:20260730T094500
DTEND;TZID=Europe/London:20260730T101500
DTSTAMP:20260420T191042Z
UID:3790162026-07-30 09:45:00+01:00achurchnearyou
CATEGORIES:
DESCRIPTION:Service followed by coffee and cake\, all welcome.  Come to on
 e or the other or both!
GEO:-2.259042;51.439035
LOCATION:St John the Baptist
URL:https://www.achurchnearyou.com/church/11762/service-and-events/events/
 379016/
END:VEVENT
BEGIN:VEVENT
SUMMARY:Holy Communion (BCP) followed by Open House
DTSTART;TZID=Europe/London:20260806T094500
DTEND;TZID=Europe/London:20260806T101500
DTSTAMP:20260420T191042Z
UID:3790162026-08-06 09:45:00+01:00achurchnearyou
CATEGORIES:
DESCRIPTION:Service followed by coffee and cake\, all welcome.  Come to on
 e or the other or both!
GEO:-2.259042;51.439035
LOCATION:St John the Baptist
URL:https://www.achurchnearyou.com/church/11762/service-and-events/events/
 379016/
END:VEVENT
BEGIN:VEVENT
SUMMARY:Holy Communion (BCP) followed by Open House
DTSTART;TZID=Europe/London:20260813T094500
DTEND;TZID=Europe/London:20260813T101500
DTSTAMP:20260420T191042Z
UID:3790162026-08-13 09:45:00+01:00achurchnearyou
CATEGORIES:
DESCRIPTION:Service followed by coffee and cake\, all welcome.  Come to on
 e or the other or both!
GEO:-2.259042;51.439035
LOCATION:St John the Baptist
URL:https://www.achurchnearyou.com/church/11762/service-and-events/events/
 379016/
END:VEVENT
BEGIN:VEVENT
SUMMARY:Holy Communion (BCP) followed by Open House
DTSTART;TZID=Europe/London:20260820T094500
DTEND;TZID=Europe/London:20260820T101500
DTSTAMP:20260420T191042Z
UID:3790162026-08-20 09:45:00+01:00achurchnearyou
CATEGORIES:
DESCRIPTION:Service followed by coffee and cake\, all welcome.  Come to on
 e or the other or both!
GEO:-2.259042;51.439035
LOCATION:St John the Baptist
URL:https://www.achurchnearyou.com/church/11762/service-and-events/events/
 379016/
END:VEVENT
BEGIN:VEVENT
SUMMARY:Holy Communion (BCP) followed by Open House
DTSTART;TZID=Europe/London:20260827T094500
DTEND;TZID=Europe/London:20260827T101500
DTSTAMP:20260420T191042Z
UID:3790162026-08-27 09:45:00+01:00achurchnearyou
CATEGORIES:
DESCRIPTION:Service followed by coffee and cake\, all welcome.  Come to on
 e or the other or both!
GEO:-2.259042;51.439035
LOCATION:St John the Baptist
URL:https://www.achurchnearyou.com/church/11762/service-and-events/events/
 379016/
END:VEVENT
BEGIN:VEVENT
SUMMARY:Holy Communion (BCP) followed by Open House
DTSTART;TZID=Europe/London:20260903T094500
DTEND;TZID=Europe/London:20260903T101500
DTSTAMP:20260420T191042Z
UID:3790162026-09-03 09:45:00+01:00achurchnearyou
CATEGORIES:
DESCRIPTION:Service followed by coffee and cake\, all welcome.  Come to on
 e or the other or both!
GEO:-2.259042;51.439035
LOCATION:St John the Baptist
URL:https://www.achurchnearyou.com/church/11762/service-and-events/events/
 379016/
END:VEVENT
BEGIN:VEVENT
SUMMARY:Holy Communion (BCP) followed by Open House
DTSTART;TZID=Europe/London:20260910T094500
DTEND;TZID=Europe/London:20260910T101500
DTSTAMP:20260420T191042Z
UID:3790162026-09-10 09:45:00+01:00achurchnearyou
CATEGORIES:
DESCRIPTION:Service followed by coffee and cake\, all welcome.  Come to on
 e or the other or both!
GEO:-2.259042;51.439035
LOCATION:St John the Baptist
URL:https://www.achurchnearyou.com/church/11762/service-and-events/events/
 379016/
END:VEVENT
BEGIN:VEVENT
SUMMARY:Holy Communion (BCP) followed by Open House
DTSTART;TZID=Europe/London:20260917T094500
DTEND;TZID=Europe/London:20260917T101500
DTSTAMP:20260420T191042Z
UID:3790162026-09-17 09:45:00+01:00achurchnearyou
CATEGORIES:
DESCRIPTION:Service followed by coffee and cake\, all welcome.  Come to on
 e or the other or both!
GEO:-2.259042;51.439035
LOCATION:St John the Baptist
URL:https://www.achurchnearyou.com/church/11762/service-and-events/events/
 379016/
END:VEVENT
BEGIN:VEVENT
SUMMARY:Holy Communion (BCP) followed by Open House
DTSTART;TZID=Europe/London:20260924T094500
DTEND;TZID=Europe/London:20260924T101500
DTSTAMP:20260420T191042Z
UID:3790162026-09-24 09:45:00+01:00achurchnearyou
CATEGORIES:
DESCRIPTION:Service followed by coffee and cake\, all welcome.  Come to on
 e or the other or both!
GEO:-2.259042;51.439035
LOCATION:St John the Baptist
URL:https://www.achurchnearyou.com/church/11762/service-and-events/events/
 379016/
END:VEVENT
BEGIN:VEVENT
SUMMARY:Holy Communion (BCP) followed by Open House
DTSTART;TZID=Europe/London:20261001T094500
DTEND;TZID=Europe/London:20261001T101500
DTSTAMP:20260420T191042Z
UID:3790162026-10-01 09:45:00+01:00achurchnearyou
CATEGORIES:
DESCRIPTION:Service followed by coffee and cake\, all welcome.  Come to on
 e or the other or both!
GEO:-2.259042;51.439035
LOCATION:St John the Baptist
URL:https://www.achurchnearyou.com/church/11762/service-and-events/events/
 379016/
END:VEVENT
BEGIN:VEVENT
SUMMARY:Holy Communion (BCP) followed by Open House
DTSTART;TZID=Europe/London:20261008T094500
DTEND;TZID=Europe/London:20261008T101500
DTSTAMP:20260420T191042Z
UID:3790162026-10-08 09:45:00+01:00achurchnearyou
CATEGORIES:
DESCRIPTION:Service followed by coffee and cake\, all welcome.  Come to on
 e or the other or both!
GEO:-2.259042;51.439035
LOCATION:St John the Baptist
URL:https://www.achurchnearyou.com/church/11762/service-and-events/events/
 379016/
END:VEVENT
BEGIN:VEVENT
SUMMARY:Holy Communion (BCP) followed by Open House
DTSTART;TZID=Europe/London:20261015T094500
DTEND;TZID=Europe/London:20261015T101500
DTSTAMP:20260420T191042Z
UID:3790162026-10-15 09:45:00+01:00achurchnearyou
CATEGORIES:
DESCRIPTION:Service followed by coffee and cake\, all welcome.  Come to on
 e or the other or both!
GEO:-2.259042;51.439035
LOCATION:St John the Baptist
URL:https://www.achurchnearyou.com/church/11762/service-and-events/events/
 379016/
END:VEVENT
BEGIN:VEVENT
SUMMARY:Holy Communion (BCP) followed by Open House
DTSTART;TZID=Europe/London:20261022T094500
DTEND;TZID=Europe/London:20261022T101500
DTSTAMP:20260420T191042Z
UID:3790162026-10-22 09:45:00+01:00achurchnearyou
CATEGORIES:
DESCRIPTION:Service followed by coffee and cake\, all welcome.  Come to on
 e or the other or both!
GEO:-2.259042;51.439035
LOCATION:St John the Baptist
URL:https://www.achurchnearyou.com/church/11762/service-and-events/events/
 379016/
END:VEVENT
BEGIN:VEVENT
SUMMARY:Holy Communion (BCP) followed by Open House
DTSTART;TZID=Europe/London:20261029T094500
DTEND;TZID=Europe/London:20261029T101500
DTSTAMP:20260420T191042Z
UID:3790162026-10-29 09:45:00+00:00achurchnearyou
CATEGORIES:
DESCRIPTION:Service followed by coffee and cake\, all welcome.  Come to on
 e or the other or both!
GEO:-2.259042;51.439035
LOCATION:St John the Baptist
URL:https://www.achurchnearyou.com/church/11762/service-and-events/events/
 379016/
END:VEVENT
BEGIN:VEVENT
SUMMARY:Holy Communion (BCP) followed by Open House
DTSTART;TZID=Europe/London:20261105T094500
DTEND;TZID=Europe/London:20261105T101500
DTSTAMP:20260420T191042Z
UID:3790162026-11-05 09:45:00+00:00achurchnearyou
CATEGORIES:
DESCRIPTION:Service followed by coffee and cake\, all welcome.  Come to on
 e or the other or both!
GEO:-2.259042;51.439035
LOCATION:St John the Baptist
URL:https://www.achurchnearyou.com/church/11762/service-and-events/events/
 379016/
END:VEVENT
BEGIN:VEVENT
SUMMARY:Holy Communion (BCP) followed by Open House
DTSTART;TZID=Europe/London:20261112T094500
DTEND;TZID=Europe/London:20261112T101500
DTSTAMP:20260420T191042Z
UID:3790162026-11-12 09:45:00+00:00achurchnearyou
CATEGORIES:
DESCRIPTION:Service followed by coffee and cake\, all welcome.  Come to on
 e or the other or both!
GEO:-2.259042;51.439035
LOCATION:St John the Baptist
URL:https://www.achurchnearyou.com/church/11762/service-and-events/events/
 379016/
END:VEVENT
BEGIN:VEVENT
SUMMARY:Holy Communion (BCP) followed by Open House
DTSTART;TZID=Europe/London:20261119T094500
DTEND;TZID=Europe/London:20261119T101500
DTSTAMP:20260420T191042Z
UID:3790162026-11-19 09:45:00+00:00achurchnearyou
CATEGORIES:
DESCRIPTION:Service followed by coffee and cake\, all welcome.  Come to on
 e or the other or both!
GEO:-2.259042;51.439035
LOCATION:St John the Baptist
URL:https://www.achurchnearyou.com/church/11762/service-and-events/events/
 379016/
END:VEVENT
BEGIN:VEVENT
SUMMARY:Holy Communion (BCP) followed by Open House
DTSTART;TZID=Europe/London:20261126T094500
DTEND;TZID=Europe/London:20261126T101500
DTSTAMP:20260420T191042Z
UID:3790162026-11-26 09:45:00+00:00achurchnearyou
CATEGORIES:
DESCRIPTION:Service followed by coffee and cake\, all welcome.  Come to on
 e or the other or both!
GEO:-2.259042;51.439035
LOCATION:St John the Baptist
URL:https://www.achurchnearyou.com/church/11762/service-and-events/events/
 379016/
END:VEVENT
BEGIN:VEVENT
SUMMARY:Holy Communion (BCP) followed by Open House
DTSTART;TZID=Europe/London:20261203T094500
DTEND;TZID=Europe/London:20261203T101500
DTSTAMP:20260420T191042Z
UID:3790162026-12-03 09:45:00+00:00achurchnearyou
CATEGORIES:
DESCRIPTION:Service followed by coffee and cake\, all welcome.  Come to on
 e or the other or both!
GEO:-2.259042;51.439035
LOCATION:St John the Baptist
URL:https://www.achurchnearyou.com/church/11762/service-and-events/events/
 379016/
END:VEVENT
BEGIN:VEVENT
SUMMARY:Holy Communion (BCP) followed by Open House
DTSTART;TZID=Europe/London:20261210T094500
DTEND;TZID=Europe/London:20261210T101500
DTSTAMP:20260420T191042Z
UID:3790162026-12-10 09:45:00+00:00achurchnearyou
CATEGORIES:
DESCRIPTION:Service followed by coffee and cake\, all welcome.  Come to on
 e or the other or both!
GEO:-2.259042;51.439035
LOCATION:St John the Baptist
URL:https://www.achurchnearyou.com/church/11762/service-and-events/events/
 379016/
END:VEVENT
BEGIN:VEVENT
SUMMARY:Holy Communion (BCP) followed by Open House
DTSTART;TZID=Europe/London:20261217T094500
DTEND;TZID=Europe/London:20261217T101500
DTSTAMP:20260420T191042Z
UID:3790162026-12-17 09:45:00+00:00achurchnearyou
CATEGORIES:
DESCRIPTION:Service followed by coffee and cake\, all welcome.  Come to on
 e or the other or both!
GEO:-2.259042;51.439035
LOCATION:St John the Baptist
URL:https://www.achurchnearyou.com/church/11762/service-and-events/events/
 379016/
END:VEVENT
BEGIN:VEVENT
SUMMARY:Holy Communion (BCP) followed by Open House
DTSTART;TZID=Europe/London:20261224T094500
DTEND;TZID=Europe/London:20261224T101500
DTSTAMP:20260420T191042Z
UID:3790162026-12-24 09:45:00+00:00achurchnearyou
CATEGORIES:
DESCRIPTION:Service followed by coffee and cake\, all welcome.  Come to on
 e or the other or both!
GEO:-2.259042;51.439035
LOCATION:St John the Baptist
URL:https://www.achurchnearyou.com/church/11762/service-and-events/events/
 379016/
END:VEVENT
BEGIN:VEVENT
SUMMARY:Holy Communion (BCP) followed by Open House
DTSTART;TZID=Europe/London:20261231T094500
DTEND;TZID=Europe/London:20261231T101500
DTSTAMP:20260420T191042Z
UID:3790162026-12-31 09:45:00+00:00achurchnearyou
CATEGORIES:
DESCRIPTION:Service followed by coffee and cake\, all welcome.  Come to on
 e or the other or both!
GEO:-2.259042;51.439035
LOCATION:St John the Baptist
URL:https://www.achurchnearyou.com/church/11762/service-and-events/events/
 379016/
END:VEVENT
BEGIN:VEVENT
SUMMARY:Holy Communion (BCP) followed by Open House
DTSTART;TZID=Europe/London:20270107T094500
DTEND;TZID=Europe/London:20270107T101500
DTSTAMP:20260420T191042Z
UID:3790162027-01-07 09:45:00+00:00achurchnearyou
CATEGORIES:
DESCRIPTION:Service followed by coffee and cake\, all welcome.  Come to on
 e or the other or both!
GEO:-2.259042;51.439035
LOCATION:St John the Baptist
URL:https://www.achurchnearyou.com/church/11762/service-and-events/events/
 379016/
END:VEVENT
BEGIN:VEVENT
SUMMARY:Holy Communion (BCP) followed by Open House
DTSTART;TZID=Europe/London:20270114T094500
DTEND;TZID=Europe/London:20270114T101500
DTSTAMP:20260420T191042Z
UID:3790162027-01-14 09:45:00+00:00achurchnearyou
CATEGORIES:
DESCRIPTION:Service followed by coffee and cake\, all welcome.  Come to on
 e or the other or both!
GEO:-2.259042;51.439035
LOCATION:St John the Baptist
URL:https://www.achurchnearyou.com/church/11762/service-and-events/events/
 379016/
END:VEVENT
BEGIN:VEVENT
SUMMARY:Holy Communion (BCP) followed by Open House
DTSTART;TZID=Europe/London:20270121T094500
DTEND;TZID=Europe/London:20270121T101500
DTSTAMP:20260420T191042Z
UID:3790162027-01-21 09:45:00+00:00achurchnearyou
CATEGORIES:
DESCRIPTION:Service followed by coffee and cake\, all welcome.  Come to on
 e or the other or both!
GEO:-2.259042;51.439035
LOCATION:St John the Baptist
URL:https://www.achurchnearyou.com/church/11762/service-and-events/events/
 379016/
END:VEVENT
BEGIN:VEVENT
SUMMARY:Holy Communion (BCP) followed by Open House
DTSTART;TZID=Europe/London:20270128T094500
DTEND;TZID=Europe/London:20270128T101500
DTSTAMP:20260420T191042Z
UID:3790162027-01-28 09:45:00+00:00achurchnearyou
CATEGORIES:
DESCRIPTION:Service followed by coffee and cake\, all welcome.  Come to on
 e or the other or both!
GEO:-2.259042;51.439035
LOCATION:St John the Baptist
URL:https://www.achurchnearyou.com/church/11762/service-and-events/events/
 379016/
END:VEVENT
BEGIN:VEVENT
SUMMARY:Holy Communion (BCP) followed by Open House
DTSTART;TZID=Europe/London:20270204T094500
DTEND;TZID=Europe/London:20270204T101500
DTSTAMP:20260420T191042Z
UID:3790162027-02-04 09:45:00+00:00achurchnearyou
CATEGORIES:
DESCRIPTION:Service followed by coffee and cake\, all welcome.  Come to on
 e or the other or both!
GEO:-2.259042;51.439035
LOCATION:St John the Baptist
URL:https://www.achurchnearyou.com/church/11762/service-and-events/events/
 379016/
END:VEVENT
BEGIN:VEVENT
SUMMARY:Holy Communion (BCP) followed by Open House
DTSTART;TZID=Europe/London:20270211T094500
DTEND;TZID=Europe/London:20270211T101500
DTSTAMP:20260420T191042Z
UID:3790162027-02-11 09:45:00+00:00achurchnearyou
CATEGORIES:
DESCRIPTION:Service followed by coffee and cake\, all welcome.  Come to on
 e or the other or both!
GEO:-2.259042;51.439035
LOCATION:St John the Baptist
URL:https://www.achurchnearyou.com/church/11762/service-and-events/events/
 379016/
END:VEVENT
BEGIN:VEVENT
SUMMARY:Holy Communion (BCP) followed by Open House
DTSTART;TZID=Europe/London:20270218T094500
DTEND;TZID=Europe/London:20270218T101500
DTSTAMP:20260420T191042Z
UID:3790162027-02-18 09:45:00+00:00achurchnearyou
CATEGORIES:
DESCRIPTION:Service followed by coffee and cake\, all welcome.  Come to on
 e or the other or both!
GEO:-2.259042;51.439035
LOCATION:St John the Baptist
URL:https://www.achurchnearyou.com/church/11762/service-and-events/events/
 379016/
END:VEVENT
BEGIN:VEVENT
SUMMARY:Holy Communion (BCP) followed by Open House
DTSTART;TZID=Europe/London:20270225T094500
DTEND;TZID=Europe/London:20270225T101500
DTSTAMP:20260420T191042Z
UID:3790162027-02-25 09:45:00+00:00achurchnearyou
CATEGORIES:
DESCRIPTION:Service followed by coffee and cake\, all welcome.  Come to on
 e or the other or both!
GEO:-2.259042;51.439035
LOCATION:St John the Baptist
URL:https://www.achurchnearyou.com/church/11762/service-and-events/events/
 379016/
END:VEVENT
BEGIN:VEVENT
SUMMARY:Holy Communion (BCP) followed by Open House
DTSTART;TZID=Europe/London:20270304T094500
DTEND;TZID=Europe/London:20270304T101500
DTSTAMP:20260420T191042Z
UID:3790162027-03-04 09:45:00+00:00achurchnearyou
CATEGORIES:
DESCRIPTION:Service followed by coffee and cake\, all welcome.  Come to on
 e or the other or both!
GEO:-2.259042;51.439035
LOCATION:St John the Baptist
URL:https://www.achurchnearyou.com/church/11762/service-and-events/events/
 379016/
END:VEVENT
BEGIN:VEVENT
SUMMARY:Holy Communion (BCP) followed by Open House
DTSTART;TZID=Europe/London:20270311T094500
DTEND;TZID=Europe/London:20270311T101500
DTSTAMP:20260420T191042Z
UID:3790162027-03-11 09:45:00+00:00achurchnearyou
CATEGORIES:
DESCRIPTION:Service followed by coffee and cake\, all welcome.  Come to on
 e or the other or both!
GEO:-2.259042;51.439035
LOCATION:St John the Baptist
URL:https://www.achurchnearyou.com/church/11762/service-and-events/events/
 379016/
END:VEVENT
BEGIN:VEVENT
SUMMARY:Holy Communion (BCP) followed by Open House
DTSTART;TZID=Europe/London:20270318T094500
DTEND;TZID=Europe/London:20270318T101500
DTSTAMP:20260420T191042Z
UID:3790162027-03-18 09:45:00+00:00achurchnearyou
CATEGORIES:
DESCRIPTION:Service followed by coffee and cake\, all welcome.  Come to on
 e or the other or both!
GEO:-2.259042;51.439035
LOCATION:St John the Baptist
URL:https://www.achurchnearyou.com/church/11762/service-and-events/events/
 379016/
END:VEVENT
BEGIN:VEVENT
SUMMARY:Holy Communion (BCP) followed by Open House
DTSTART;TZID=Europe/London:20270325T094500
DTEND;TZID=Europe/London:20270325T101500
DTSTAMP:20260420T191042Z
UID:3790162027-03-25 09:45:00+00:00achurchnearyou
CATEGORIES:
DESCRIPTION:Service followed by coffee and cake\, all welcome.  Come to on
 e or the other or both!
GEO:-2.259042;51.439035
LOCATION:St John the Baptist
URL:https://www.achurchnearyou.com/church/11762/service-and-events/events/
 379016/
END:VEVENT
BEGIN:VEVENT
SUMMARY:Holy Communion (BCP) followed by Open House
DTSTART;TZID=Europe/London:20270401T094500
DTEND;TZID=Europe/London:20270401T101500
DTSTAMP:20260420T191042Z
UID:3790162027-04-01 09:45:00+01:00achurchnearyou
CATEGORIES:
DESCRIPTION:Service followed by coffee and cake\, all welcome.  Come to on
 e or the other or both!
GEO:-2.259042;51.439035
LOCATION:St John the Baptist
URL:https://www.achurchnearyou.com/church/11762/service-and-events/events/
 379016/
END:VEVENT
BEGIN:VEVENT
SUMMARY:Holy Communion (BCP) followed by Open House
DTSTART;TZID=Europe/London:20270408T094500
DTEND;TZID=Europe/London:20270408T101500
DTSTAMP:20260420T191042Z
UID:3790162027-04-08 09:45:00+01:00achurchnearyou
CATEGORIES:
DESCRIPTION:Service followed by coffee and cake\, all welcome.  Come to on
 e or the other or both!
GEO:-2.259042;51.439035
LOCATION:St John the Baptist
URL:https://www.achurchnearyou.com/church/11762/service-and-events/events/
 379016/
END:VEVENT
BEGIN:VEVENT
SUMMARY:Holy Communion (BCP) followed by Open House
DTSTART;TZID=Europe/London:20270415T094500
DTEND;TZID=Europe/London:20270415T101500
DTSTAMP:20260420T191042Z
UID:3790162027-04-15 09:45:00+01:00achurchnearyou
CATEGORIES:
DESCRIPTION:Service followed by coffee and cake\, all welcome.  Come to on
 e or the other or both!
GEO:-2.259042;51.439035
LOCATION:St John the Baptist
URL:https://www.achurchnearyou.com/church/11762/service-and-events/events/
 379016/
END:VEVENT
END:VCALENDAR
