BEGIN:VCALENDAR
VERSION:2.0
PRODID:-//achurchnearyou.com//eventfeed//EN
CALSCALE:GREGORIAN
METHOD:PUBLISH
X-WR-TIMEZONE:UTC
BEGIN:VEVENT
SUMMARY:Holy Communion
DTSTART;TZID=Europe/London:20260531T100000
DTEND;TZID=Europe/London:20260531T104000
DTSTAMP:20260423T022205Z
UID:11869702026-05-31 10:00:00+01:00achurchnearyou
CATEGORIES:
DESCRIPTION:Holy Communion service according to Common Worship.
LOCATION:St John the Baptist
URL:https://greatercorshamchurches.org.uk/services/
END:VEVENT
END:VCALENDAR
