BEGIN:VCALENDAR
VERSION:2.0
PRODID:-//achurchnearyou.com//eventfeed//EN
CALSCALE:GREGORIAN
METHOD:PUBLISH
X-WR-TIMEZONE:UTC
BEGIN:VEVENT
SUMMARY:CAROLS by Candlelight
DTSTART:20251221T183000Z
DTEND:20251221T200000Z
DTSTAMP:20260423T211649Z
UID:12410012025-12-21 18:30:00+00:00achurchnearyou
CATEGORIES:
DESCRIPTION:Celebrate Christmas with traditional carols\, accompanied by a
  brass band and organ.\nThere will also be prayer and seasonal bible readi
 ngs.\n\nBe early to find a seat! Church is usually full for this popular a
 nnual event.
GEO:-2.50587;51.47323
LOCATION:St Stephen\, Soundwell\, Bristol BS16 4RH
URL:https://www.achurchnearyou.com/church/11788/service-and-events/events/
 1241001/
END:VEVENT
END:VCALENDAR
