BEGIN:VCALENDAR
VERSION:2.0
PRODID:-//achurchnearyou.com//eventfeed//EN
CALSCALE:GREGORIAN
METHOD:PUBLISH
X-WR-TIMEZONE:UTC
BEGIN:VEVENT
SUMMARY:EASTER SUNDAY
DTSTART:20260405T090000Z
DTEND:20260405T101500Z
DTSTAMP:20260423T104505Z
UID:13067602026-04-05 09:00:00+00:00achurchnearyou
CATEGORIES:
DESCRIPTION:10am: a Service of CELEBRATION for All Ages together\, with Ho
 ly Communion (and later on\, maybe some chocolate...)
GEO:-2.50587;51.47323
LOCATION:St Stephen\, Soundwell\, Bristol BS16 4RH
URL:https://www.achurchnearyou.com/church/11788/service-and-events/events/
 1306760/
END:VEVENT
END:VCALENDAR
