BEGIN:VCALENDAR
VERSION:2.0
PRODID:-//achurchnearyou.com//eventfeed//EN
CALSCALE:GREGORIAN
METHOD:PUBLISH
X-WR-TIMEZONE:UTC
BEGIN:VEVENT
SUMMARY:Christmas Day Holy Communion
DTSTART:20251225T100000Z
DTEND:20251225T111500Z
DTSTAMP:20260423T170632Z
UID:10117452025-12-25 10:00:00+00:00achurchnearyou
CATEGORIES:
DESCRIPTION:A service of Holy Communion for the Benefice of Bradley Stoke.
GEO:-2.548613;51.529765
LOCATION:Christ the King\, Bradley Stoke
URL:https://www.achurchnearyou.com/church/11807/service-and-events/events/
 1011745/
END:VEVENT
END:VCALENDAR
