BEGIN:VCALENDAR
VERSION:2.0
PRODID:-//achurchnearyou.com//eventfeed//EN
CALSCALE:GREGORIAN
METHOD:PUBLISH
X-WR-TIMEZONE:UTC
BEGIN:VEVENT
SUMMARY:Easter Day Holy Communion
DTSTART:20260405T083000Z
DTEND:20260405T094500Z
DTSTAMP:20260423T120232Z
UID:10456522026-04-05 08:30:00+00:00achurchnearyou
CATEGORIES:
DESCRIPTION:Join us for our Easter Sunday Service of Holy Communion.
GEO:-2.548613;51.529765
LOCATION:Christ the King\, Bradley Stoke
URL:https://www.achurchnearyou.com/church/11807/service-and-events/events/
 1045652/
END:VEVENT
END:VCALENDAR
