BEGIN:VCALENDAR
VERSION:2.0
PRODID:-//achurchnearyou.com//eventfeed//EN
CALSCALE:GREGORIAN
METHOD:PUBLISH
X-WR-TIMEZONE:UTC
BEGIN:VEVENT
SUMMARY:Evening Holy Communion
DTSTART;TZID=Europe/London:20260517T183000
DTEND;TZID=Europe/London:20260517T193000
DTSTAMP:20260423T041909Z
UID:4090012026-05-17 18:30:00+01:00achurchnearyou
CATEGORIES:
DESCRIPTION:This is usually a said service.
GEO:-2.548613;51.529765
LOCATION:Christ the King\, Bradley Stoke
URL:https://www.achurchnearyou.com/church/11807/service-and-events/events/
 409001/
END:VEVENT
BEGIN:VEVENT
SUMMARY:Evening Holy Communion
DTSTART;TZID=Europe/London:20260719T183000
DTEND;TZID=Europe/London:20260719T193000
DTSTAMP:20260423T041909Z
UID:4090012026-07-19 18:30:00+01:00achurchnearyou
CATEGORIES:
DESCRIPTION:This is usually a said service.
GEO:-2.548613;51.529765
LOCATION:Christ the King\, Bradley Stoke
URL:https://www.achurchnearyou.com/church/11807/service-and-events/events/
 409001/
END:VEVENT
BEGIN:VEVENT
SUMMARY:Evening Holy Communion
DTSTART;TZID=Europe/London:20260816T183000
DTEND;TZID=Europe/London:20260816T193000
DTSTAMP:20260423T041909Z
UID:4090012026-08-16 18:30:00+01:00achurchnearyou
CATEGORIES:
DESCRIPTION:This is usually a said service.
GEO:-2.548613;51.529765
LOCATION:Christ the King\, Bradley Stoke
URL:https://www.achurchnearyou.com/church/11807/service-and-events/events/
 409001/
END:VEVENT
BEGIN:VEVENT
SUMMARY:Evening Holy Communion
DTSTART;TZID=Europe/London:20260920T183000
DTEND;TZID=Europe/London:20260920T193000
DTSTAMP:20260423T041909Z
UID:4090012026-09-20 18:30:00+01:00achurchnearyou
CATEGORIES:
DESCRIPTION:This is usually a said service.
GEO:-2.548613;51.529765
LOCATION:Christ the King\, Bradley Stoke
URL:https://www.achurchnearyou.com/church/11807/service-and-events/events/
 409001/
END:VEVENT
BEGIN:VEVENT
SUMMARY:Evening Holy Communion
DTSTART;TZID=Europe/London:20261018T183000
DTEND;TZID=Europe/London:20261018T193000
DTSTAMP:20260423T041909Z
UID:4090012026-10-18 18:30:00+01:00achurchnearyou
CATEGORIES:
DESCRIPTION:This is usually a said service.
GEO:-2.548613;51.529765
LOCATION:Christ the King\, Bradley Stoke
URL:https://www.achurchnearyou.com/church/11807/service-and-events/events/
 409001/
END:VEVENT
BEGIN:VEVENT
SUMMARY:Evening Holy Communion
DTSTART;TZID=Europe/London:20261115T183000
DTEND;TZID=Europe/London:20261115T193000
DTSTAMP:20260423T041909Z
UID:4090012026-11-15 18:30:00+00:00achurchnearyou
CATEGORIES:
DESCRIPTION:This is usually a said service.
GEO:-2.548613;51.529765
LOCATION:Christ the King\, Bradley Stoke
URL:https://www.achurchnearyou.com/church/11807/service-and-events/events/
 409001/
END:VEVENT
BEGIN:VEVENT
SUMMARY:Evening Holy Communion
DTSTART;TZID=Europe/London:20261220T183000
DTEND;TZID=Europe/London:20261220T193000
DTSTAMP:20260423T041909Z
UID:4090012026-12-20 18:30:00+00:00achurchnearyou
CATEGORIES:
DESCRIPTION:This is usually a said service.
GEO:-2.548613;51.529765
LOCATION:Christ the King\, Bradley Stoke
URL:https://www.achurchnearyou.com/church/11807/service-and-events/events/
 409001/
END:VEVENT
BEGIN:VEVENT
SUMMARY:Evening Holy Communion
DTSTART;TZID=Europe/London:20270117T183000
DTEND;TZID=Europe/London:20270117T193000
DTSTAMP:20260423T041909Z
UID:4090012027-01-17 18:30:00+00:00achurchnearyou
CATEGORIES:
DESCRIPTION:This is usually a said service.
GEO:-2.548613;51.529765
LOCATION:Christ the King\, Bradley Stoke
URL:https://www.achurchnearyou.com/church/11807/service-and-events/events/
 409001/
END:VEVENT
BEGIN:VEVENT
SUMMARY:Evening Holy Communion
DTSTART;TZID=Europe/London:20270221T183000
DTEND;TZID=Europe/London:20270221T193000
DTSTAMP:20260423T041909Z
UID:4090012027-02-21 18:30:00+00:00achurchnearyou
CATEGORIES:
DESCRIPTION:This is usually a said service.
GEO:-2.548613;51.529765
LOCATION:Christ the King\, Bradley Stoke
URL:https://www.achurchnearyou.com/church/11807/service-and-events/events/
 409001/
END:VEVENT
BEGIN:VEVENT
SUMMARY:Evening Holy Communion
DTSTART;TZID=Europe/London:20270321T183000
DTEND;TZID=Europe/London:20270321T193000
DTSTAMP:20260423T041909Z
UID:4090012027-03-21 18:30:00+00:00achurchnearyou
CATEGORIES:
DESCRIPTION:This is usually a said service.
GEO:-2.548613;51.529765
LOCATION:Christ the King\, Bradley Stoke
URL:https://www.achurchnearyou.com/church/11807/service-and-events/events/
 409001/
END:VEVENT
BEGIN:VEVENT
SUMMARY:Evening Holy Communion
DTSTART;TZID=Europe/London:20270418T183000
DTEND;TZID=Europe/London:20270418T193000
DTSTAMP:20260423T041909Z
UID:4090012027-04-18 18:30:00+01:00achurchnearyou
CATEGORIES:
DESCRIPTION:This is usually a said service.
GEO:-2.548613;51.529765
LOCATION:Christ the King\, Bradley Stoke
URL:https://www.achurchnearyou.com/church/11807/service-and-events/events/
 409001/
END:VEVENT
END:VCALENDAR
