BEGIN:VCALENDAR
VERSION:2.0
PRODID:-//achurchnearyou.com//eventfeed//EN
CALSCALE:GREGORIAN
METHOD:PUBLISH
X-WR-TIMEZONE:UTC
BEGIN:VEVENT
SUMMARY:Café Church in the afternoon
DTSTART;TZID=Europe/London:20240107T150000
DTEND;TZID=Europe/London:20240107T160000
DTSTAMP:20260423T021146Z
UID:9333932024-01-07 15:00:00+00:00achurchnearyou
CATEGORIES:
DESCRIPTION:Our monthly\, informal service. Food\, fun\, action songs and 
 the vicar causing chaos!
GEO:-2.548613;51.529765
LOCATION:Christ the King\, Bradley Stoke
URL:https://www.achurchnearyou.com/church/11807/service-and-events/events/
 933393/
END:VEVENT
BEGIN:VEVENT
SUMMARY:Café Church in the afternoon
DTSTART;TZID=Europe/London:20240204T150000
DTEND;TZID=Europe/London:20240204T160000
DTSTAMP:20260423T021146Z
UID:9333932024-02-04 15:00:00+00:00achurchnearyou
CATEGORIES:
DESCRIPTION:Our monthly\, informal service. Food\, fun\, action songs and 
 the vicar causing chaos!
GEO:-2.548613;51.529765
LOCATION:Christ the King\, Bradley Stoke
URL:https://www.achurchnearyou.com/church/11807/service-and-events/events/
 933393/
END:VEVENT
BEGIN:VEVENT
SUMMARY:Café Church in the afternoon
DTSTART;TZID=Europe/London:20240303T150000
DTEND;TZID=Europe/London:20240303T160000
DTSTAMP:20260423T021146Z
UID:9333932024-03-03 15:00:00+00:00achurchnearyou
CATEGORIES:
DESCRIPTION:Our monthly\, informal service. Food\, fun\, action songs and 
 the vicar causing chaos!
GEO:-2.548613;51.529765
LOCATION:Christ the King\, Bradley Stoke
URL:https://www.achurchnearyou.com/church/11807/service-and-events/events/
 933393/
END:VEVENT
BEGIN:VEVENT
SUMMARY:Café Church in the afternoon
DTSTART;TZID=Europe/London:20240407T150000
DTEND;TZID=Europe/London:20240407T160000
DTSTAMP:20260423T021146Z
UID:9333932024-04-07 15:00:00+01:00achurchnearyou
CATEGORIES:
DESCRIPTION:Our monthly\, informal service. Food\, fun\, action songs and 
 the vicar causing chaos!
GEO:-2.548613;51.529765
LOCATION:Christ the King\, Bradley Stoke
URL:https://www.achurchnearyou.com/church/11807/service-and-events/events/
 933393/
END:VEVENT
BEGIN:VEVENT
SUMMARY:Café Church in the afternoon
DTSTART;TZID=Europe/London:20240505T150000
DTEND;TZID=Europe/London:20240505T160000
DTSTAMP:20260423T021146Z
UID:9333932024-05-05 15:00:00+01:00achurchnearyou
CATEGORIES:
DESCRIPTION:Our monthly\, informal service. Food\, fun\, action songs and 
 the vicar causing chaos!
GEO:-2.548613;51.529765
LOCATION:Christ the King\, Bradley Stoke
URL:https://www.achurchnearyou.com/church/11807/service-and-events/events/
 933393/
END:VEVENT
BEGIN:VEVENT
SUMMARY:Café Church in the afternoon
DTSTART;TZID=Europe/London:20240602T150000
DTEND;TZID=Europe/London:20240602T160000
DTSTAMP:20260423T021146Z
UID:9333932024-06-02 15:00:00+01:00achurchnearyou
CATEGORIES:
DESCRIPTION:Our monthly\, informal service. Food\, fun\, action songs and 
 the vicar causing chaos!
GEO:-2.548613;51.529765
LOCATION:Christ the King\, Bradley Stoke
URL:https://www.achurchnearyou.com/church/11807/service-and-events/events/
 933393/
END:VEVENT
BEGIN:VEVENT
SUMMARY:Café Church in the afternoon
DTSTART;TZID=Europe/London:20240707T150000
DTEND;TZID=Europe/London:20240707T160000
DTSTAMP:20260423T021146Z
UID:9333932024-07-07 15:00:00+01:00achurchnearyou
CATEGORIES:
DESCRIPTION:Our monthly\, informal service. Food\, fun\, action songs and 
 the vicar causing chaos!
GEO:-2.548613;51.529765
LOCATION:Christ the King\, Bradley Stoke
URL:https://www.achurchnearyou.com/church/11807/service-and-events/events/
 933393/
END:VEVENT
BEGIN:VEVENT
SUMMARY:Café Church in the afternoon
DTSTART;TZID=Europe/London:20240804T150000
DTEND;TZID=Europe/London:20240804T160000
DTSTAMP:20260423T021146Z
UID:9333932024-08-04 15:00:00+01:00achurchnearyou
CATEGORIES:
DESCRIPTION:Our monthly\, informal service. Food\, fun\, action songs and 
 the vicar causing chaos!
GEO:-2.548613;51.529765
LOCATION:Christ the King\, Bradley Stoke
URL:https://www.achurchnearyou.com/church/11807/service-and-events/events/
 933393/
END:VEVENT
BEGIN:VEVENT
SUMMARY:Café Church in the afternoon
DTSTART;TZID=Europe/London:20240901T150000
DTEND;TZID=Europe/London:20240901T160000
DTSTAMP:20260423T021146Z
UID:9333932024-09-01 15:00:00+01:00achurchnearyou
CATEGORIES:
DESCRIPTION:Our monthly\, informal service. Food\, fun\, action songs and 
 the vicar causing chaos!
GEO:-2.548613;51.529765
LOCATION:Christ the King\, Bradley Stoke
URL:https://www.achurchnearyou.com/church/11807/service-and-events/events/
 933393/
END:VEVENT
BEGIN:VEVENT
SUMMARY:Café Church in the afternoon
DTSTART;TZID=Europe/London:20241006T150000
DTEND;TZID=Europe/London:20241006T160000
DTSTAMP:20260423T021146Z
UID:9333932024-10-06 15:00:00+01:00achurchnearyou
CATEGORIES:
DESCRIPTION:Our monthly\, informal service. Food\, fun\, action songs and 
 the vicar causing chaos!
GEO:-2.548613;51.529765
LOCATION:Christ the King\, Bradley Stoke
URL:https://www.achurchnearyou.com/church/11807/service-and-events/events/
 933393/
END:VEVENT
BEGIN:VEVENT
SUMMARY:Café Church in the afternoon
DTSTART;TZID=Europe/London:20241103T150000
DTEND;TZID=Europe/London:20241103T160000
DTSTAMP:20260423T021146Z
UID:9333932024-11-03 15:00:00+00:00achurchnearyou
CATEGORIES:
DESCRIPTION:Our monthly\, informal service. Food\, fun\, action songs and 
 the vicar causing chaos!
GEO:-2.548613;51.529765
LOCATION:Christ the King\, Bradley Stoke
URL:https://www.achurchnearyou.com/church/11807/service-and-events/events/
 933393/
END:VEVENT
BEGIN:VEVENT
SUMMARY:Café Church in the afternoon
DTSTART;TZID=Europe/London:20241201T150000
DTEND;TZID=Europe/London:20241201T160000
DTSTAMP:20260423T021146Z
UID:9333932024-12-01 15:00:00+00:00achurchnearyou
CATEGORIES:
DESCRIPTION:Our monthly\, informal service. Food\, fun\, action songs and 
 the vicar causing chaos!
GEO:-2.548613;51.529765
LOCATION:Christ the King\, Bradley Stoke
URL:https://www.achurchnearyou.com/church/11807/service-and-events/events/
 933393/
END:VEVENT
BEGIN:VEVENT
SUMMARY:Café Church in the afternoon
DTSTART;TZID=Europe/London:20250105T150000
DTEND;TZID=Europe/London:20250105T160000
DTSTAMP:20260423T021146Z
UID:9333932025-01-05 15:00:00+00:00achurchnearyou
CATEGORIES:
DESCRIPTION:Our monthly\, informal service. Food\, fun\, action songs and 
 the vicar causing chaos!
GEO:-2.548613;51.529765
LOCATION:Christ the King\, Bradley Stoke
URL:https://www.achurchnearyou.com/church/11807/service-and-events/events/
 933393/
END:VEVENT
BEGIN:VEVENT
SUMMARY:Café Church in the afternoon
DTSTART;TZID=Europe/London:20250202T150000
DTEND;TZID=Europe/London:20250202T160000
DTSTAMP:20260423T021146Z
UID:9333932025-02-02 15:00:00+00:00achurchnearyou
CATEGORIES:
DESCRIPTION:Our monthly\, informal service. Food\, fun\, action songs and 
 the vicar causing chaos!
GEO:-2.548613;51.529765
LOCATION:Christ the King\, Bradley Stoke
URL:https://www.achurchnearyou.com/church/11807/service-and-events/events/
 933393/
END:VEVENT
BEGIN:VEVENT
SUMMARY:Café Church in the afternoon
DTSTART;TZID=Europe/London:20250302T150000
DTEND;TZID=Europe/London:20250302T160000
DTSTAMP:20260423T021146Z
UID:9333932025-03-02 15:00:00+00:00achurchnearyou
CATEGORIES:
DESCRIPTION:Our monthly\, informal service. Food\, fun\, action songs and 
 the vicar causing chaos!
GEO:-2.548613;51.529765
LOCATION:Christ the King\, Bradley Stoke
URL:https://www.achurchnearyou.com/church/11807/service-and-events/events/
 933393/
END:VEVENT
BEGIN:VEVENT
SUMMARY:Café Church in the afternoon
DTSTART;TZID=Europe/London:20250406T150000
DTEND;TZID=Europe/London:20250406T160000
DTSTAMP:20260423T021146Z
UID:9333932025-04-06 15:00:00+01:00achurchnearyou
CATEGORIES:
DESCRIPTION:Our monthly\, informal service. Food\, fun\, action songs and 
 the vicar causing chaos!
GEO:-2.548613;51.529765
LOCATION:Christ the King\, Bradley Stoke
URL:https://www.achurchnearyou.com/church/11807/service-and-events/events/
 933393/
END:VEVENT
BEGIN:VEVENT
SUMMARY:Café Church in the afternoon
DTSTART;TZID=Europe/London:20250504T150000
DTEND;TZID=Europe/London:20250504T160000
DTSTAMP:20260423T021146Z
UID:9333932025-05-04 15:00:00+01:00achurchnearyou
CATEGORIES:
DESCRIPTION:Our monthly\, informal service. Food\, fun\, action songs and 
 the vicar causing chaos!
GEO:-2.548613;51.529765
LOCATION:Christ the King\, Bradley Stoke
URL:https://www.achurchnearyou.com/church/11807/service-and-events/events/
 933393/
END:VEVENT
BEGIN:VEVENT
SUMMARY:Café Church in the afternoon
DTSTART;TZID=Europe/London:20250601T150000
DTEND;TZID=Europe/London:20250601T160000
DTSTAMP:20260423T021146Z
UID:9333932025-06-01 15:00:00+01:00achurchnearyou
CATEGORIES:
DESCRIPTION:Our monthly\, informal service. Food\, fun\, action songs and 
 the vicar causing chaos!
GEO:-2.548613;51.529765
LOCATION:Christ the King\, Bradley Stoke
URL:https://www.achurchnearyou.com/church/11807/service-and-events/events/
 933393/
END:VEVENT
BEGIN:VEVENT
SUMMARY:Café Church in the afternoon
DTSTART;TZID=Europe/London:20250706T150000
DTEND;TZID=Europe/London:20250706T160000
DTSTAMP:20260423T021146Z
UID:9333932025-07-06 15:00:00+01:00achurchnearyou
CATEGORIES:
DESCRIPTION:Our monthly\, informal service. Food\, fun\, action songs and 
 the vicar causing chaos!
GEO:-2.548613;51.529765
LOCATION:Christ the King\, Bradley Stoke
URL:https://www.achurchnearyou.com/church/11807/service-and-events/events/
 933393/
END:VEVENT
BEGIN:VEVENT
SUMMARY:Café Church in the afternoon
DTSTART;TZID=Europe/London:20250803T150000
DTEND;TZID=Europe/London:20250803T160000
DTSTAMP:20260423T021146Z
UID:9333932025-08-03 15:00:00+01:00achurchnearyou
CATEGORIES:
DESCRIPTION:Our monthly\, informal service. Food\, fun\, action songs and 
 the vicar causing chaos!
GEO:-2.548613;51.529765
LOCATION:Christ the King\, Bradley Stoke
URL:https://www.achurchnearyou.com/church/11807/service-and-events/events/
 933393/
END:VEVENT
BEGIN:VEVENT
SUMMARY:Café Church in the afternoon
DTSTART;TZID=Europe/London:20250907T150000
DTEND;TZID=Europe/London:20250907T160000
DTSTAMP:20260423T021146Z
UID:9333932025-09-07 15:00:00+01:00achurchnearyou
CATEGORIES:
DESCRIPTION:Our monthly\, informal service. Food\, fun\, action songs and 
 the vicar causing chaos!
GEO:-2.548613;51.529765
LOCATION:Christ the King\, Bradley Stoke
URL:https://www.achurchnearyou.com/church/11807/service-and-events/events/
 933393/
END:VEVENT
BEGIN:VEVENT
SUMMARY:Café Church in the afternoon
DTSTART;TZID=Europe/London:20251005T150000
DTEND;TZID=Europe/London:20251005T160000
DTSTAMP:20260423T021146Z
UID:9333932025-10-05 15:00:00+01:00achurchnearyou
CATEGORIES:
DESCRIPTION:Our monthly\, informal service. Food\, fun\, action songs and 
 the vicar causing chaos!
GEO:-2.548613;51.529765
LOCATION:Christ the King\, Bradley Stoke
URL:https://www.achurchnearyou.com/church/11807/service-and-events/events/
 933393/
END:VEVENT
BEGIN:VEVENT
SUMMARY:Café Church in the afternoon
DTSTART;TZID=Europe/London:20251102T150000
DTEND;TZID=Europe/London:20251102T160000
DTSTAMP:20260423T021146Z
UID:9333932025-11-02 15:00:00+00:00achurchnearyou
CATEGORIES:
DESCRIPTION:Our monthly\, informal service. Food\, fun\, action songs and 
 the vicar causing chaos!
GEO:-2.548613;51.529765
LOCATION:Christ the King\, Bradley Stoke
URL:https://www.achurchnearyou.com/church/11807/service-and-events/events/
 933393/
END:VEVENT
BEGIN:VEVENT
SUMMARY:Café Church in the afternoon
DTSTART;TZID=Europe/London:20251207T150000
DTEND;TZID=Europe/London:20251207T160000
DTSTAMP:20260423T021146Z
UID:9333932025-12-07 15:00:00+00:00achurchnearyou
CATEGORIES:
DESCRIPTION:Our monthly\, informal service. Food\, fun\, action songs and 
 the vicar causing chaos!
GEO:-2.548613;51.529765
LOCATION:Christ the King\, Bradley Stoke
URL:https://www.achurchnearyou.com/church/11807/service-and-events/events/
 933393/
END:VEVENT
BEGIN:VEVENT
SUMMARY:Café Church in the afternoon
DTSTART;TZID=Europe/London:20260104T150000
DTEND;TZID=Europe/London:20260104T160000
DTSTAMP:20260423T021146Z
UID:9333932026-01-04 15:00:00+00:00achurchnearyou
CATEGORIES:
DESCRIPTION:Our monthly\, informal service. Food\, fun\, action songs and 
 the vicar causing chaos!
GEO:-2.548613;51.529765
LOCATION:Christ the King\, Bradley Stoke
URL:https://www.achurchnearyou.com/church/11807/service-and-events/events/
 933393/
END:VEVENT
BEGIN:VEVENT
SUMMARY:Café Church in the afternoon
DTSTART;TZID=Europe/London:20260201T150000
DTEND;TZID=Europe/London:20260201T160000
DTSTAMP:20260423T021146Z
UID:9333932026-02-01 15:00:00+00:00achurchnearyou
CATEGORIES:
DESCRIPTION:Our monthly\, informal service. Food\, fun\, action songs and 
 the vicar causing chaos!
GEO:-2.548613;51.529765
LOCATION:Christ the King\, Bradley Stoke
URL:https://www.achurchnearyou.com/church/11807/service-and-events/events/
 933393/
END:VEVENT
BEGIN:VEVENT
SUMMARY:Café Church in the afternoon
DTSTART;TZID=Europe/London:20260301T150000
DTEND;TZID=Europe/London:20260301T160000
DTSTAMP:20260423T021146Z
UID:9333932026-03-01 15:00:00+00:00achurchnearyou
CATEGORIES:
DESCRIPTION:Our monthly\, informal service. Food\, fun\, action songs and 
 the vicar causing chaos!
GEO:-2.548613;51.529765
LOCATION:Christ the King\, Bradley Stoke
URL:https://www.achurchnearyou.com/church/11807/service-and-events/events/
 933393/
END:VEVENT
BEGIN:VEVENT
SUMMARY:Café Church in the afternoon
DTSTART;TZID=Europe/London:20260405T150000
DTEND;TZID=Europe/London:20260405T160000
DTSTAMP:20260423T021146Z
UID:9333932026-04-05 15:00:00+01:00achurchnearyou
CATEGORIES:
DESCRIPTION:Our monthly\, informal service. Food\, fun\, action songs and 
 the vicar causing chaos!
GEO:-2.548613;51.529765
LOCATION:Christ the King\, Bradley Stoke
URL:https://www.achurchnearyou.com/church/11807/service-and-events/events/
 933393/
END:VEVENT
BEGIN:VEVENT
SUMMARY:Café Church in the afternoon
DTSTART;TZID=Europe/London:20260503T150000
DTEND;TZID=Europe/London:20260503T160000
DTSTAMP:20260423T021146Z
UID:9333932026-05-03 15:00:00+01:00achurchnearyou
CATEGORIES:
DESCRIPTION:Our monthly\, informal service. Food\, fun\, action songs and 
 the vicar causing chaos!
GEO:-2.548613;51.529765
LOCATION:Christ the King\, Bradley Stoke
URL:https://www.achurchnearyou.com/church/11807/service-and-events/events/
 933393/
END:VEVENT
BEGIN:VEVENT
SUMMARY:Café Church in the afternoon
DTSTART;TZID=Europe/London:20260607T150000
DTEND;TZID=Europe/London:20260607T160000
DTSTAMP:20260423T021146Z
UID:9333932026-06-07 15:00:00+01:00achurchnearyou
CATEGORIES:
DESCRIPTION:Our monthly\, informal service. Food\, fun\, action songs and 
 the vicar causing chaos!
GEO:-2.548613;51.529765
LOCATION:Christ the King\, Bradley Stoke
URL:https://www.achurchnearyou.com/church/11807/service-and-events/events/
 933393/
END:VEVENT
END:VCALENDAR
