BEGIN:VCALENDAR
VERSION:2.0
PRODID:-//achurchnearyou.com//eventfeed//EN
CALSCALE:GREGORIAN
METHOD:PUBLISH
X-WR-TIMEZONE:UTC
BEGIN:VEVENT
SUMMARY:Harvest Morning Praise Service
DTSTART:20251005T093000Z
DTEND:20251005T103000Z
DTSTAMP:20260424T022835Z
UID:12195962025-10-05 09:30:00+00:00achurchnearyou
CATEGORIES:
DESCRIPTION:A Morning Praise Service to give thanks for Harvest.\nThis yea
 r we will again be supporting Doorway in Chippenham with any donations of 
 tins etc (see list attached).\nAny monetary gifts will go to the work of T
 earfund - see https://www.tearfund.org
GEO:-2.110634;51.491106
LOCATION:St Peter's\, Kington Langley
URL:https://www.achurchnearyou.com/church/11810/service-and-events/events/
 1219596/
END:VEVENT
END:VCALENDAR
