BEGIN:VCALENDAR
VERSION:2.0
PRODID:-//achurchnearyou.com//eventfeed//EN
CALSCALE:GREGORIAN
METHOD:PUBLISH
X-WR-TIMEZONE:UTC
BEGIN:VEVENT
SUMMARY:Benefice Service
DTSTART;TZID=Europe/London:20260412T100000
DTEND;TZID=Europe/London:20260412T110000
DTSTAMP:20260420T145349Z
UID:10263071775984400.0achurchnearyou
CATEGORIES:
DESCRIPTION:We usually have a Benefice Service of Holy Communion on the se
 cond and fifth Sunday of the month. \n\nServices also take place each week
  across the Benefice. Please see our website www.braydonbrook.co.uk for th
 e list.
GEO:-2.060552;51.599428
LOCATION:St John the Baptist\, Charlton
URL:https://www.achurchnearyou.com/church/11820/service-and-events/events/
 1026307/
END:VEVENT
BEGIN:VEVENT
SUMMARY:Benefice Service of Holy Communion
DTSTART;TZID=Europe/London:20260412T100000
DTEND;TZID=Europe/London:20260412T110000
DTSTAMP:20260420T145349Z
UID:10264101775984400.0achurchnearyou
CATEGORIES:
DESCRIPTION:We have a variety of services taking place across the Braydon 
 Brook Benefice. \nThe Benefice Service of Holy Communion usually takes pla
 ce on the 2nd and 5th Sunday of the month. \nPlease visit our website www.
 braydonbrook.co.uk to see what services are taking place each week.
LOCATION:Braydon Brook Benefice
URL:https://www.achurchnearyou.com/church/11820/service-and-events/events/
 1026410/
END:VEVENT
BEGIN:VEVENT
SUMMARY:Holy Communion
DTSTART;TZID=Europe/London:20260419T093000
DTEND;TZID=Europe/London:20260419T103000
DTSTAMP:20260420T145349Z
UID:10263081776587400.0achurchnearyou
CATEGORIES:
DESCRIPTION:A service of Holy Communion usually takes place on the third S
 unday of the month at 9.30am.
GEO:-2.060552;51.599428
LOCATION:St John the Baptist\, Charlton
URL:https://www.achurchnearyou.com/church/11820/service-and-events/events/
 1026308/
END:VEVENT
BEGIN:VEVENT
SUMMARY:Morning Praise
DTSTART;TZID=Europe/London:20260426T100000
DTEND;TZID=Europe/London:20260426T110000
DTSTAMP:20260420T145349Z
UID:10263101777194000.0achurchnearyou
CATEGORIES:
DESCRIPTION:We usually have a service of Morning Prayer on the fourth Sund
 ay of the month at 9.30am
GEO:-2.060552;51.599428
LOCATION:St John the Baptist\, Charlton
URL:https://www.achurchnearyou.com/church/11820/service-and-events/events/
 1026310/
END:VEVENT
BEGIN:VEVENT
SUMMARY:Benefice Service
DTSTART;TZID=Europe/London:20260510T100000
DTEND;TZID=Europe/London:20260510T110000
DTSTAMP:20260420T145349Z
UID:10263071778403600.0achurchnearyou
CATEGORIES:
DESCRIPTION:We usually have a Benefice Service of Holy Communion on the se
 cond and fifth Sunday of the month. \n\nServices also take place each week
  across the Benefice. Please see our website www.braydonbrook.co.uk for th
 e list.
GEO:-2.060552;51.599428
LOCATION:St John the Baptist\, Charlton
URL:https://www.achurchnearyou.com/church/11820/service-and-events/events/
 1026307/
END:VEVENT
BEGIN:VEVENT
SUMMARY:Benefice Service of Holy Communion
DTSTART;TZID=Europe/London:20260510T100000
DTEND;TZID=Europe/London:20260510T110000
DTSTAMP:20260420T145349Z
UID:10264101778403600.0achurchnearyou
CATEGORIES:
DESCRIPTION:We have a variety of services taking place across the Braydon 
 Brook Benefice. \nThe Benefice Service of Holy Communion usually takes pla
 ce on the 2nd and 5th Sunday of the month. \nPlease visit our website www.
 braydonbrook.co.uk to see what services are taking place each week.
LOCATION:Braydon Brook Benefice
URL:https://www.achurchnearyou.com/church/11820/service-and-events/events/
 1026410/
END:VEVENT
BEGIN:VEVENT
SUMMARY:Holy Communion
DTSTART;TZID=Europe/London:20260517T093000
DTEND;TZID=Europe/London:20260517T103000
DTSTAMP:20260420T145349Z
UID:10263081779006600.0achurchnearyou
CATEGORIES:
DESCRIPTION:A service of Holy Communion usually takes place on the third S
 unday of the month at 9.30am.
GEO:-2.060552;51.599428
LOCATION:St John the Baptist\, Charlton
URL:https://www.achurchnearyou.com/church/11820/service-and-events/events/
 1026308/
END:VEVENT
BEGIN:VEVENT
SUMMARY:Morning Praise
DTSTART;TZID=Europe/London:20260524T100000
DTEND;TZID=Europe/London:20260524T110000
DTSTAMP:20260420T145349Z
UID:10263101779613200.0achurchnearyou
CATEGORIES:
DESCRIPTION:We usually have a service of Morning Prayer on the fourth Sund
 ay of the month at 9.30am
GEO:-2.060552;51.599428
LOCATION:St John the Baptist\, Charlton
URL:https://www.achurchnearyou.com/church/11820/service-and-events/events/
 1026310/
END:VEVENT
BEGIN:VEVENT
SUMMARY:Benefice Service
DTSTART;TZID=Europe/London:20260531T100000
DTEND;TZID=Europe/London:20260531T110000
DTSTAMP:20260420T145349Z
UID:10263071780218000.0achurchnearyou
CATEGORIES:
DESCRIPTION:We usually have a Benefice Service of Holy Communion on the se
 cond and fifth Sunday of the month. \n\nServices also take place each week
  across the Benefice. Please see our website www.braydonbrook.co.uk for th
 e list.
GEO:-2.060552;51.599428
LOCATION:St John the Baptist\, Charlton
URL:https://www.achurchnearyou.com/church/11820/service-and-events/events/
 1026307/
END:VEVENT
BEGIN:VEVENT
SUMMARY:Benefice Service of Holy Communion
DTSTART;TZID=Europe/London:20260531T100000
DTEND;TZID=Europe/London:20260531T110000
DTSTAMP:20260420T145349Z
UID:10264101780218000.0achurchnearyou
CATEGORIES:
DESCRIPTION:We have a variety of services taking place across the Braydon 
 Brook Benefice. \nThe Benefice Service of Holy Communion usually takes pla
 ce on the 2nd and 5th Sunday of the month. \nPlease visit our website www.
 braydonbrook.co.uk to see what services are taking place each week.
LOCATION:Braydon Brook Benefice
URL:https://www.achurchnearyou.com/church/11820/service-and-events/events/
 1026410/
END:VEVENT
BEGIN:VEVENT
SUMMARY:Benefice Service
DTSTART;TZID=Europe/London:20260614T100000
DTEND;TZID=Europe/London:20260614T110000
DTSTAMP:20260420T145349Z
UID:10263071781427600.0achurchnearyou
CATEGORIES:
DESCRIPTION:We usually have a Benefice Service of Holy Communion on the se
 cond and fifth Sunday of the month. \n\nServices also take place each week
  across the Benefice. Please see our website www.braydonbrook.co.uk for th
 e list.
GEO:-2.060552;51.599428
LOCATION:St John the Baptist\, Charlton
URL:https://www.achurchnearyou.com/church/11820/service-and-events/events/
 1026307/
END:VEVENT
BEGIN:VEVENT
SUMMARY:Benefice Service of Holy Communion
DTSTART;TZID=Europe/London:20260614T100000
DTEND;TZID=Europe/London:20260614T110000
DTSTAMP:20260420T145349Z
UID:10264101781427600.0achurchnearyou
CATEGORIES:
DESCRIPTION:We have a variety of services taking place across the Braydon 
 Brook Benefice. \nThe Benefice Service of Holy Communion usually takes pla
 ce on the 2nd and 5th Sunday of the month. \nPlease visit our website www.
 braydonbrook.co.uk to see what services are taking place each week.
LOCATION:Braydon Brook Benefice
URL:https://www.achurchnearyou.com/church/11820/service-and-events/events/
 1026410/
END:VEVENT
BEGIN:VEVENT
SUMMARY:Holy Communion
DTSTART;TZID=Europe/London:20260621T093000
DTEND;TZID=Europe/London:20260621T103000
DTSTAMP:20260420T145349Z
UID:10263081782030600.0achurchnearyou
CATEGORIES:
DESCRIPTION:A service of Holy Communion usually takes place on the third S
 unday of the month at 9.30am.
GEO:-2.060552;51.599428
LOCATION:St John the Baptist\, Charlton
URL:https://www.achurchnearyou.com/church/11820/service-and-events/events/
 1026308/
END:VEVENT
BEGIN:VEVENT
SUMMARY:Morning Praise
DTSTART;TZID=Europe/London:20260628T100000
DTEND;TZID=Europe/London:20260628T110000
DTSTAMP:20260420T145349Z
UID:10263101782637200.0achurchnearyou
CATEGORIES:
DESCRIPTION:We usually have a service of Morning Prayer on the fourth Sund
 ay of the month at 9.30am
GEO:-2.060552;51.599428
LOCATION:St John the Baptist\, Charlton
URL:https://www.achurchnearyou.com/church/11820/service-and-events/events/
 1026310/
END:VEVENT
BEGIN:VEVENT
SUMMARY:Benefice Service
DTSTART;TZID=Europe/London:20260712T100000
DTEND;TZID=Europe/London:20260712T110000
DTSTAMP:20260420T145349Z
UID:10263071783846800.0achurchnearyou
CATEGORIES:
DESCRIPTION:We usually have a Benefice Service of Holy Communion on the se
 cond and fifth Sunday of the month. \n\nServices also take place each week
  across the Benefice. Please see our website www.braydonbrook.co.uk for th
 e list.
GEO:-2.060552;51.599428
LOCATION:St John the Baptist\, Charlton
URL:https://www.achurchnearyou.com/church/11820/service-and-events/events/
 1026307/
END:VEVENT
BEGIN:VEVENT
SUMMARY:Benefice Service of Holy Communion
DTSTART;TZID=Europe/London:20260712T100000
DTEND;TZID=Europe/London:20260712T110000
DTSTAMP:20260420T145349Z
UID:10264101783846800.0achurchnearyou
CATEGORIES:
DESCRIPTION:We have a variety of services taking place across the Braydon 
 Brook Benefice. \nThe Benefice Service of Holy Communion usually takes pla
 ce on the 2nd and 5th Sunday of the month. \nPlease visit our website www.
 braydonbrook.co.uk to see what services are taking place each week.
LOCATION:Braydon Brook Benefice
URL:https://www.achurchnearyou.com/church/11820/service-and-events/events/
 1026410/
END:VEVENT
BEGIN:VEVENT
SUMMARY:Holy Communion
DTSTART;TZID=Europe/London:20260719T093000
DTEND;TZID=Europe/London:20260719T103000
DTSTAMP:20260420T145349Z
UID:10263081784449800.0achurchnearyou
CATEGORIES:
DESCRIPTION:A service of Holy Communion usually takes place on the third S
 unday of the month at 9.30am.
GEO:-2.060552;51.599428
LOCATION:St John the Baptist\, Charlton
URL:https://www.achurchnearyou.com/church/11820/service-and-events/events/
 1026308/
END:VEVENT
BEGIN:VEVENT
SUMMARY:Morning Praise
DTSTART;TZID=Europe/London:20260726T100000
DTEND;TZID=Europe/London:20260726T110000
DTSTAMP:20260420T145349Z
UID:10263101785056400.0achurchnearyou
CATEGORIES:
DESCRIPTION:We usually have a service of Morning Prayer on the fourth Sund
 ay of the month at 9.30am
GEO:-2.060552;51.599428
LOCATION:St John the Baptist\, Charlton
URL:https://www.achurchnearyou.com/church/11820/service-and-events/events/
 1026310/
END:VEVENT
BEGIN:VEVENT
SUMMARY:Benefice Service
DTSTART;TZID=Europe/London:20260809T100000
DTEND;TZID=Europe/London:20260809T110000
DTSTAMP:20260420T145349Z
UID:10263071786266000.0achurchnearyou
CATEGORIES:
DESCRIPTION:We usually have a Benefice Service of Holy Communion on the se
 cond and fifth Sunday of the month. \n\nServices also take place each week
  across the Benefice. Please see our website www.braydonbrook.co.uk for th
 e list.
GEO:-2.060552;51.599428
LOCATION:St John the Baptist\, Charlton
URL:https://www.achurchnearyou.com/church/11820/service-and-events/events/
 1026307/
END:VEVENT
BEGIN:VEVENT
SUMMARY:Benefice Service of Holy Communion
DTSTART;TZID=Europe/London:20260809T100000
DTEND;TZID=Europe/London:20260809T110000
DTSTAMP:20260420T145349Z
UID:10264101786266000.0achurchnearyou
CATEGORIES:
DESCRIPTION:We have a variety of services taking place across the Braydon 
 Brook Benefice. \nThe Benefice Service of Holy Communion usually takes pla
 ce on the 2nd and 5th Sunday of the month. \nPlease visit our website www.
 braydonbrook.co.uk to see what services are taking place each week.
LOCATION:Braydon Brook Benefice
URL:https://www.achurchnearyou.com/church/11820/service-and-events/events/
 1026410/
END:VEVENT
BEGIN:VEVENT
SUMMARY:Holy Communion
DTSTART;TZID=Europe/London:20260816T093000
DTEND;TZID=Europe/London:20260816T103000
DTSTAMP:20260420T145349Z
UID:10263081786869000.0achurchnearyou
CATEGORIES:
DESCRIPTION:A service of Holy Communion usually takes place on the third S
 unday of the month at 9.30am.
GEO:-2.060552;51.599428
LOCATION:St John the Baptist\, Charlton
URL:https://www.achurchnearyou.com/church/11820/service-and-events/events/
 1026308/
END:VEVENT
BEGIN:VEVENT
SUMMARY:Morning Praise
DTSTART;TZID=Europe/London:20260823T100000
DTEND;TZID=Europe/London:20260823T110000
DTSTAMP:20260420T145349Z
UID:10263101787475600.0achurchnearyou
CATEGORIES:
DESCRIPTION:We usually have a service of Morning Prayer on the fourth Sund
 ay of the month at 9.30am
GEO:-2.060552;51.599428
LOCATION:St John the Baptist\, Charlton
URL:https://www.achurchnearyou.com/church/11820/service-and-events/events/
 1026310/
END:VEVENT
BEGIN:VEVENT
SUMMARY:Benefice Service
DTSTART;TZID=Europe/London:20260830T100000
DTEND;TZID=Europe/London:20260830T110000
DTSTAMP:20260420T145349Z
UID:10263071788080400.0achurchnearyou
CATEGORIES:
DESCRIPTION:We usually have a Benefice Service of Holy Communion on the se
 cond and fifth Sunday of the month. \n\nServices also take place each week
  across the Benefice. Please see our website www.braydonbrook.co.uk for th
 e list.
GEO:-2.060552;51.599428
LOCATION:St John the Baptist\, Charlton
URL:https://www.achurchnearyou.com/church/11820/service-and-events/events/
 1026307/
END:VEVENT
BEGIN:VEVENT
SUMMARY:Benefice Service of Holy Communion
DTSTART;TZID=Europe/London:20260830T100000
DTEND;TZID=Europe/London:20260830T110000
DTSTAMP:20260420T145349Z
UID:10264101788080400.0achurchnearyou
CATEGORIES:
DESCRIPTION:We have a variety of services taking place across the Braydon 
 Brook Benefice. \nThe Benefice Service of Holy Communion usually takes pla
 ce on the 2nd and 5th Sunday of the month. \nPlease visit our website www.
 braydonbrook.co.uk to see what services are taking place each week.
LOCATION:Braydon Brook Benefice
URL:https://www.achurchnearyou.com/church/11820/service-and-events/events/
 1026410/
END:VEVENT
BEGIN:VEVENT
SUMMARY:Benefice Service
DTSTART;TZID=Europe/London:20260913T100000
DTEND;TZID=Europe/London:20260913T110000
DTSTAMP:20260420T145349Z
UID:10263071789290000.0achurchnearyou
CATEGORIES:
DESCRIPTION:We usually have a Benefice Service of Holy Communion on the se
 cond and fifth Sunday of the month. \n\nServices also take place each week
  across the Benefice. Please see our website www.braydonbrook.co.uk for th
 e list.
GEO:-2.060552;51.599428
LOCATION:St John the Baptist\, Charlton
URL:https://www.achurchnearyou.com/church/11820/service-and-events/events/
 1026307/
END:VEVENT
BEGIN:VEVENT
SUMMARY:Benefice Service of Holy Communion
DTSTART;TZID=Europe/London:20260913T100000
DTEND;TZID=Europe/London:20260913T110000
DTSTAMP:20260420T145349Z
UID:10264101789290000.0achurchnearyou
CATEGORIES:
DESCRIPTION:We have a variety of services taking place across the Braydon 
 Brook Benefice. \nThe Benefice Service of Holy Communion usually takes pla
 ce on the 2nd and 5th Sunday of the month. \nPlease visit our website www.
 braydonbrook.co.uk to see what services are taking place each week.
LOCATION:Braydon Brook Benefice
URL:https://www.achurchnearyou.com/church/11820/service-and-events/events/
 1026410/
END:VEVENT
BEGIN:VEVENT
SUMMARY:Holy Communion
DTSTART;TZID=Europe/London:20260920T093000
DTEND;TZID=Europe/London:20260920T103000
DTSTAMP:20260420T145349Z
UID:10263081789893000.0achurchnearyou
CATEGORIES:
DESCRIPTION:A service of Holy Communion usually takes place on the third S
 unday of the month at 9.30am.
GEO:-2.060552;51.599428
LOCATION:St John the Baptist\, Charlton
URL:https://www.achurchnearyou.com/church/11820/service-and-events/events/
 1026308/
END:VEVENT
BEGIN:VEVENT
SUMMARY:Morning Praise
DTSTART;TZID=Europe/London:20260927T100000
DTEND;TZID=Europe/London:20260927T110000
DTSTAMP:20260420T145349Z
UID:10263101790499600.0achurchnearyou
CATEGORIES:
DESCRIPTION:We usually have a service of Morning Prayer on the fourth Sund
 ay of the month at 9.30am
GEO:-2.060552;51.599428
LOCATION:St John the Baptist\, Charlton
URL:https://www.achurchnearyou.com/church/11820/service-and-events/events/
 1026310/
END:VEVENT
END:VCALENDAR
