BEGIN:VCALENDAR
VERSION:2.0
PRODID:-//achurchnearyou.com//eventfeed//EN
CALSCALE:GREGORIAN
METHOD:PUBLISH
X-WR-TIMEZONE:UTC
BEGIN:VEVENT
SUMMARY:Christmas Day Holy Communion Service
DTSTART:20251225T110000Z
DTEND:20251225T120000Z
DTSTAMP:20260424T090716Z
UID:12492022025-12-25 11:00:00+00:00achurchnearyou
CATEGORIES:
DESCRIPTION:This will be a shorter service than the normal Holy Communion 
 service.
GEO:-2.014638;51.64146
LOCATION:All Saints Church\, Oaksey
URL:https://www.achurchnearyou.com/church/11837/service-and-events/events/
 1249202/
END:VEVENT
END:VCALENDAR
