BEGIN:VCALENDAR
VERSION:2.0
PRODID:-//achurchnearyou.com//eventfeed//EN
CALSCALE:GREGORIAN
METHOD:PUBLISH
X-WR-TIMEZONE:UTC
BEGIN:VEVENT
SUMMARY:10.00 am Holy Communion for Palm Sunday at Luckington Church
DTSTART:20240324T100000Z
DTEND:20240324T110000Z
DTSTAMP:20260421T002846Z
UID:10411192024-03-24 10:00:00+00:00achurchnearyou
CATEGORIES:
DESCRIPTION:The group service this month will be at Luckington Church\, le
 d by the Right Reverend Neil Warwick\, Bishop of Swindon
LOCATION:St Mary with St Ethelbert Luckington
URL:https://www.achurchnearyou.com/church/11839/service-and-events/events/
 1041119/
END:VEVENT
END:VCALENDAR
