BEGIN:VCALENDAR
VERSION:2.0
PRODID:-//achurchnearyou.com//eventfeed//EN
CALSCALE:GREGORIAN
METHOD:PUBLISH
X-WR-TIMEZONE:UTC
BEGIN:VEVENT
SUMMARY:Ash Wednesday Service
DTSTART:20250305T180000Z
DTEND:20250305T190000Z
DTSTAMP:20260422T085353Z
UID:11515612025-03-05 18:00:00+00:00achurchnearyou
CATEGORIES:
DESCRIPTION:A Eucharist for Ash Wednesday with Imposition of Ashes
GEO:-2.2122;51.572961
LOCATION:Holy Cross  Sherston
URL:https://www.achurchnearyou.com/church/11839/service-and-events/events/
 1151561/
END:VEVENT
END:VCALENDAR
