BEGIN:VCALENDAR
VERSION:2.0
PRODID:-//achurchnearyou.com//eventfeed//EN
CALSCALE:GREGORIAN
METHOD:PUBLISH
X-WR-TIMEZONE:UTC
BEGIN:VEVENT
SUMMARY:A service for Palm Sunday
DTSTART:20250413T170000Z
DTEND:20250413T180000Z
DTSTAMP:20260422T050851Z
UID:11796942025-04-13 17:00:00+00:00achurchnearyou
CATEGORIES:
DESCRIPTION:Evensong for Palm Sunday\,  Distribution of Palms\, Procession
 al Hymns and a service following the BCP order of service for Evening Pray
 er.
GEO:-2.2122;51.572961
LOCATION:Holy Cross  Sherston
URL:https://www.achurchnearyou.com/church/11839/service-and-events/events/
 1179694/
END:VEVENT
END:VCALENDAR
