BEGIN:VCALENDAR
VERSION:2.0
PRODID:-//achurchnearyou.com//eventfeed//EN
CALSCALE:GREGORIAN
METHOD:PUBLISH
X-WR-TIMEZONE:UTC
BEGIN:VEVENT
SUMMARY:Holy Communion
DTSTART:20250629T170000Z
DTEND:20250629T180000Z
DTSTAMP:20260421T225329Z
UID:12078762025-06-29 17:00:00+00:00achurchnearyou
CATEGORIES:
DESCRIPTION:A service of Holy Communion\, (Common Worship)\, with a celebr
 ation of vocations marking the 40th anniversary of the ordination of the R
 everend Alastair Davies.
GEO:-2.2122;51.572961
LOCATION:Holy Cross  Sherston
URL:https://www.achurchnearyou.com/church/11839/service-and-events/events/
 1207876/
END:VEVENT
END:VCALENDAR
