BEGIN:VCALENDAR
VERSION:2.0
PRODID:-//achurchnearyou.com//eventfeed//EN
CALSCALE:GREGORIAN
METHOD:PUBLISH
X-WR-TIMEZONE:UTC
BEGIN:VEVENT
SUMMARY:All Souls' Day Service
DTSTART:20251102T150000Z
DTEND:20251102T160000Z
DTSTAMP:20260421T154312Z
UID:12320702025-11-02 15:00:00+00:00achurchnearyou
CATEGORIES:
DESCRIPTION:A service of thanksgiving for the departed.  Candles will be l
 it in memory of those who have died\, especially those in recent times.  P
 lease add names to the list in church and these will be read at the servic
 e.     Further details from the priest in charge interim@gauzebrook.org
GEO:-2.2122;51.572961
LOCATION:Holy Cross  Sherston
URL:https://www.achurchnearyou.com/church/11839/service-and-events/events/
 1232070/
END:VEVENT
END:VCALENDAR
