BEGIN:VCALENDAR
VERSION:2.0
PRODID:-//achurchnearyou.com//eventfeed//EN
CALSCALE:GREGORIAN
METHOD:PUBLISH
X-WR-TIMEZONE:UTC
BEGIN:VEVENT
SUMMARY:Worship Together
DTSTART;TZID=Europe/London:20241006T093000
DTEND;TZID=Europe/London:20241006T103000
DTSTAMP:20260421T022709Z
UID:9476892024-10-06 09:30:00+01:00achurchnearyou
CATEGORIES:
DESCRIPTION:A friendly and less formal service based on a modern liturgy a
 nd suitable for all ages. We use the open space in our north aisle.  We se
 rve coffee or tea and a croissant at 9.00 am and begin the service at 9.30
  am.
GEO:-2.2122;51.572961
LOCATION:Holy Cross  Sherston
URL:https://www.achurchnearyou.com/church/11839/service-and-events/events/
 947689/
END:VEVENT
BEGIN:VEVENT
SUMMARY:Worship Together
DTSTART;TZID=Europe/London:20241103T093000
DTEND;TZID=Europe/London:20241103T103000
DTSTAMP:20260421T022709Z
UID:9476892024-11-03 09:30:00+00:00achurchnearyou
CATEGORIES:
DESCRIPTION:A friendly and less formal service based on a modern liturgy a
 nd suitable for all ages. We use the open space in our north aisle.  We se
 rve coffee or tea and a croissant at 9.00 am and begin the service at 9.30
  am.
GEO:-2.2122;51.572961
LOCATION:Holy Cross  Sherston
URL:https://www.achurchnearyou.com/church/11839/service-and-events/events/
 947689/
END:VEVENT
BEGIN:VEVENT
SUMMARY:Worship Together
DTSTART;TZID=Europe/London:20241201T093000
DTEND;TZID=Europe/London:20241201T103000
DTSTAMP:20260421T022709Z
UID:9476892024-12-01 09:30:00+00:00achurchnearyou
CATEGORIES:
DESCRIPTION:A friendly and less formal service based on a modern liturgy a
 nd suitable for all ages. We use the open space in our north aisle.  We se
 rve coffee or tea and a croissant at 9.00 am and begin the service at 9.30
  am.
GEO:-2.2122;51.572961
LOCATION:Holy Cross  Sherston
URL:https://www.achurchnearyou.com/church/11839/service-and-events/events/
 947689/
END:VEVENT
BEGIN:VEVENT
SUMMARY:Worship Together
DTSTART;TZID=Europe/London:20250105T093000
DTEND;TZID=Europe/London:20250105T103000
DTSTAMP:20260421T022709Z
UID:9476892025-01-05 09:30:00+00:00achurchnearyou
CATEGORIES:
DESCRIPTION:A friendly and less formal service based on a modern liturgy a
 nd suitable for all ages. We use the open space in our north aisle.  We se
 rve coffee or tea and a croissant at 9.00 am and begin the service at 9.30
  am.
GEO:-2.2122;51.572961
LOCATION:Holy Cross  Sherston
URL:https://www.achurchnearyou.com/church/11839/service-and-events/events/
 947689/
END:VEVENT
BEGIN:VEVENT
SUMMARY:Worship Together
DTSTART;TZID=Europe/London:20250202T093000
DTEND;TZID=Europe/London:20250202T103000
DTSTAMP:20260421T022709Z
UID:9476892025-02-02 09:30:00+00:00achurchnearyou
CATEGORIES:
DESCRIPTION:A friendly and less formal service based on a modern liturgy a
 nd suitable for all ages. We use the open space in our north aisle.  We se
 rve coffee or tea and a croissant at 9.00 am and begin the service at 9.30
  am.
GEO:-2.2122;51.572961
LOCATION:Holy Cross  Sherston
URL:https://www.achurchnearyou.com/church/11839/service-and-events/events/
 947689/
END:VEVENT
BEGIN:VEVENT
SUMMARY:Worship Together
DTSTART;TZID=Europe/London:20250302T093000
DTEND;TZID=Europe/London:20250302T103000
DTSTAMP:20260421T022709Z
UID:9476892025-03-02 09:30:00+00:00achurchnearyou
CATEGORIES:
DESCRIPTION:A friendly and less formal service based on a modern liturgy a
 nd suitable for all ages. We use the open space in our north aisle.  We se
 rve coffee or tea and a croissant at 9.00 am and begin the service at 9.30
  am.
GEO:-2.2122;51.572961
LOCATION:Holy Cross  Sherston
URL:https://www.achurchnearyou.com/church/11839/service-and-events/events/
 947689/
END:VEVENT
BEGIN:VEVENT
SUMMARY:Worship Together
DTSTART;TZID=Europe/London:20250406T093000
DTEND;TZID=Europe/London:20250406T103000
DTSTAMP:20260421T022709Z
UID:9476892025-04-06 09:30:00+01:00achurchnearyou
CATEGORIES:
DESCRIPTION:A friendly and less formal service based on a modern liturgy a
 nd suitable for all ages. We use the open space in our north aisle.  We se
 rve coffee or tea and a croissant at 9.00 am and begin the service at 9.30
  am.
GEO:-2.2122;51.572961
LOCATION:Holy Cross  Sherston
URL:https://www.achurchnearyou.com/church/11839/service-and-events/events/
 947689/
END:VEVENT
BEGIN:VEVENT
SUMMARY:Worship Together
DTSTART;TZID=Europe/London:20250504T093000
DTEND;TZID=Europe/London:20250504T103000
DTSTAMP:20260421T022709Z
UID:9476892025-05-04 09:30:00+01:00achurchnearyou
CATEGORIES:
DESCRIPTION:A friendly and less formal service based on a modern liturgy a
 nd suitable for all ages. We use the open space in our north aisle.  We se
 rve coffee or tea and a croissant at 9.00 am and begin the service at 9.30
  am.
GEO:-2.2122;51.572961
LOCATION:Holy Cross  Sherston
URL:https://www.achurchnearyou.com/church/11839/service-and-events/events/
 947689/
END:VEVENT
BEGIN:VEVENT
SUMMARY:Worship Together
DTSTART;TZID=Europe/London:20250601T093000
DTEND;TZID=Europe/London:20250601T103000
DTSTAMP:20260421T022709Z
UID:9476892025-06-01 09:30:00+01:00achurchnearyou
CATEGORIES:
DESCRIPTION:A friendly and less formal service based on a modern liturgy a
 nd suitable for all ages. We use the open space in our north aisle.  We se
 rve coffee or tea and a croissant at 9.00 am and begin the service at 9.30
  am.
GEO:-2.2122;51.572961
LOCATION:Holy Cross  Sherston
URL:https://www.achurchnearyou.com/church/11839/service-and-events/events/
 947689/
END:VEVENT
BEGIN:VEVENT
SUMMARY:Worship Together
DTSTART;TZID=Europe/London:20250706T093000
DTEND;TZID=Europe/London:20250706T103000
DTSTAMP:20260421T022709Z
UID:9476892025-07-06 09:30:00+01:00achurchnearyou
CATEGORIES:
DESCRIPTION:A friendly and less formal service based on a modern liturgy a
 nd suitable for all ages. We use the open space in our north aisle.  We se
 rve coffee or tea and a croissant at 9.00 am and begin the service at 9.30
  am.
GEO:-2.2122;51.572961
LOCATION:Holy Cross  Sherston
URL:https://www.achurchnearyou.com/church/11839/service-and-events/events/
 947689/
END:VEVENT
BEGIN:VEVENT
SUMMARY:Worship Together
DTSTART;TZID=Europe/London:20250803T093000
DTEND;TZID=Europe/London:20250803T103000
DTSTAMP:20260421T022709Z
UID:9476892025-08-03 09:30:00+01:00achurchnearyou
CATEGORIES:
DESCRIPTION:A friendly and less formal service based on a modern liturgy a
 nd suitable for all ages. We use the open space in our north aisle.  We se
 rve coffee or tea and a croissant at 9.00 am and begin the service at 9.30
  am.
GEO:-2.2122;51.572961
LOCATION:Holy Cross  Sherston
URL:https://www.achurchnearyou.com/church/11839/service-and-events/events/
 947689/
END:VEVENT
BEGIN:VEVENT
SUMMARY:Worship Together
DTSTART;TZID=Europe/London:20250907T093000
DTEND;TZID=Europe/London:20250907T103000
DTSTAMP:20260421T022709Z
UID:9476892025-09-07 09:30:00+01:00achurchnearyou
CATEGORIES:
DESCRIPTION:A friendly and less formal service based on a modern liturgy a
 nd suitable for all ages. We use the open space in our north aisle.  We se
 rve coffee or tea and a croissant at 9.00 am and begin the service at 9.30
  am.
GEO:-2.2122;51.572961
LOCATION:Holy Cross  Sherston
URL:https://www.achurchnearyou.com/church/11839/service-and-events/events/
 947689/
END:VEVENT
BEGIN:VEVENT
SUMMARY:Worship Together
DTSTART;TZID=Europe/London:20251005T093000
DTEND;TZID=Europe/London:20251005T103000
DTSTAMP:20260421T022709Z
UID:9476892025-10-05 09:30:00+01:00achurchnearyou
CATEGORIES:
DESCRIPTION:A friendly and less formal service based on a modern liturgy a
 nd suitable for all ages. We use the open space in our north aisle.  We se
 rve coffee or tea and a croissant at 9.00 am and begin the service at 9.30
  am.
GEO:-2.2122;51.572961
LOCATION:Holy Cross  Sherston
URL:https://www.achurchnearyou.com/church/11839/service-and-events/events/
 947689/
END:VEVENT
BEGIN:VEVENT
SUMMARY:Worship Together
DTSTART;TZID=Europe/London:20251102T093000
DTEND;TZID=Europe/London:20251102T103000
DTSTAMP:20260421T022709Z
UID:9476892025-11-02 09:30:00+00:00achurchnearyou
CATEGORIES:
DESCRIPTION:A friendly and less formal service based on a modern liturgy a
 nd suitable for all ages. We use the open space in our north aisle.  We se
 rve coffee or tea and a croissant at 9.00 am and begin the service at 9.30
  am.
GEO:-2.2122;51.572961
LOCATION:Holy Cross  Sherston
URL:https://www.achurchnearyou.com/church/11839/service-and-events/events/
 947689/
END:VEVENT
BEGIN:VEVENT
SUMMARY:Worship Together
DTSTART;TZID=Europe/London:20251207T093000
DTEND;TZID=Europe/London:20251207T103000
DTSTAMP:20260421T022709Z
UID:9476892025-12-07 09:30:00+00:00achurchnearyou
CATEGORIES:
DESCRIPTION:A friendly and less formal service based on a modern liturgy a
 nd suitable for all ages. We use the open space in our north aisle.  We se
 rve coffee or tea and a croissant at 9.00 am and begin the service at 9.30
  am.
GEO:-2.2122;51.572961
LOCATION:Holy Cross  Sherston
URL:https://www.achurchnearyou.com/church/11839/service-and-events/events/
 947689/
END:VEVENT
BEGIN:VEVENT
SUMMARY:Worship Together
DTSTART;TZID=Europe/London:20260104T093000
DTEND;TZID=Europe/London:20260104T103000
DTSTAMP:20260421T022709Z
UID:9476892026-01-04 09:30:00+00:00achurchnearyou
CATEGORIES:
DESCRIPTION:A friendly and less formal service based on a modern liturgy a
 nd suitable for all ages. We use the open space in our north aisle.  We se
 rve coffee or tea and a croissant at 9.00 am and begin the service at 9.30
  am.
GEO:-2.2122;51.572961
LOCATION:Holy Cross  Sherston
URL:https://www.achurchnearyou.com/church/11839/service-and-events/events/
 947689/
END:VEVENT
BEGIN:VEVENT
SUMMARY:Worship Together
DTSTART;TZID=Europe/London:20260201T093000
DTEND;TZID=Europe/London:20260201T103000
DTSTAMP:20260421T022709Z
UID:9476892026-02-01 09:30:00+00:00achurchnearyou
CATEGORIES:
DESCRIPTION:A friendly and less formal service based on a modern liturgy a
 nd suitable for all ages. We use the open space in our north aisle.  We se
 rve coffee or tea and a croissant at 9.00 am and begin the service at 9.30
  am.
GEO:-2.2122;51.572961
LOCATION:Holy Cross  Sherston
URL:https://www.achurchnearyou.com/church/11839/service-and-events/events/
 947689/
END:VEVENT
BEGIN:VEVENT
SUMMARY:Worship Together
DTSTART;TZID=Europe/London:20260301T093000
DTEND;TZID=Europe/London:20260301T103000
DTSTAMP:20260421T022709Z
UID:9476892026-03-01 09:30:00+00:00achurchnearyou
CATEGORIES:
DESCRIPTION:A friendly and less formal service based on a modern liturgy a
 nd suitable for all ages. We use the open space in our north aisle.  We se
 rve coffee or tea and a croissant at 9.00 am and begin the service at 9.30
  am.
GEO:-2.2122;51.572961
LOCATION:Holy Cross  Sherston
URL:https://www.achurchnearyou.com/church/11839/service-and-events/events/
 947689/
END:VEVENT
BEGIN:VEVENT
SUMMARY:Worship Together
DTSTART;TZID=Europe/London:20260503T093000
DTEND;TZID=Europe/London:20260503T103000
DTSTAMP:20260421T022709Z
UID:9476892026-05-03 09:30:00+01:00achurchnearyou
CATEGORIES:
DESCRIPTION:A friendly and less formal service based on a modern liturgy a
 nd suitable for all ages. We use the open space in our north aisle.  We se
 rve coffee or tea and a croissant at 9.00 am and begin the service at 9.30
  am.
GEO:-2.2122;51.572961
LOCATION:Holy Cross  Sherston
URL:https://www.achurchnearyou.com/church/11839/service-and-events/events/
 947689/
END:VEVENT
BEGIN:VEVENT
SUMMARY:Worship Together
DTSTART;TZID=Europe/London:20260607T093000
DTEND;TZID=Europe/London:20260607T103000
DTSTAMP:20260421T022709Z
UID:9476892026-06-07 09:30:00+01:00achurchnearyou
CATEGORIES:
DESCRIPTION:A friendly and less formal service based on a modern liturgy a
 nd suitable for all ages. We use the open space in our north aisle.  We se
 rve coffee or tea and a croissant at 9.00 am and begin the service at 9.30
  am.
GEO:-2.2122;51.572961
LOCATION:Holy Cross  Sherston
URL:https://www.achurchnearyou.com/church/11839/service-and-events/events/
 947689/
END:VEVENT
BEGIN:VEVENT
SUMMARY:Worship Together
DTSTART;TZID=Europe/London:20260705T093000
DTEND;TZID=Europe/London:20260705T103000
DTSTAMP:20260421T022709Z
UID:9476892026-07-05 09:30:00+01:00achurchnearyou
CATEGORIES:
DESCRIPTION:A friendly and less formal service based on a modern liturgy a
 nd suitable for all ages. We use the open space in our north aisle.  We se
 rve coffee or tea and a croissant at 9.00 am and begin the service at 9.30
  am.
GEO:-2.2122;51.572961
LOCATION:Holy Cross  Sherston
URL:https://www.achurchnearyou.com/church/11839/service-and-events/events/
 947689/
END:VEVENT
BEGIN:VEVENT
SUMMARY:Worship Together
DTSTART;TZID=Europe/London:20260802T093000
DTEND;TZID=Europe/London:20260802T103000
DTSTAMP:20260421T022709Z
UID:9476892026-08-02 09:30:00+01:00achurchnearyou
CATEGORIES:
DESCRIPTION:A friendly and less formal service based on a modern liturgy a
 nd suitable for all ages. We use the open space in our north aisle.  We se
 rve coffee or tea and a croissant at 9.00 am and begin the service at 9.30
  am.
GEO:-2.2122;51.572961
LOCATION:Holy Cross  Sherston
URL:https://www.achurchnearyou.com/church/11839/service-and-events/events/
 947689/
END:VEVENT
BEGIN:VEVENT
SUMMARY:Worship Together
DTSTART;TZID=Europe/London:20260906T093000
DTEND;TZID=Europe/London:20260906T103000
DTSTAMP:20260421T022709Z
UID:9476892026-09-06 09:30:00+01:00achurchnearyou
CATEGORIES:
DESCRIPTION:A friendly and less formal service based on a modern liturgy a
 nd suitable for all ages. We use the open space in our north aisle.  We se
 rve coffee or tea and a croissant at 9.00 am and begin the service at 9.30
  am.
GEO:-2.2122;51.572961
LOCATION:Holy Cross  Sherston
URL:https://www.achurchnearyou.com/church/11839/service-and-events/events/
 947689/
END:VEVENT
BEGIN:VEVENT
SUMMARY:Worship Together
DTSTART;TZID=Europe/London:20261004T093000
DTEND;TZID=Europe/London:20261004T103000
DTSTAMP:20260421T022709Z
UID:9476892026-10-04 09:30:00+01:00achurchnearyou
CATEGORIES:
DESCRIPTION:A friendly and less formal service based on a modern liturgy a
 nd suitable for all ages. We use the open space in our north aisle.  We se
 rve coffee or tea and a croissant at 9.00 am and begin the service at 9.30
  am.
GEO:-2.2122;51.572961
LOCATION:Holy Cross  Sherston
URL:https://www.achurchnearyou.com/church/11839/service-and-events/events/
 947689/
END:VEVENT
BEGIN:VEVENT
SUMMARY:Worship Together
DTSTART;TZID=Europe/London:20261101T093000
DTEND;TZID=Europe/London:20261101T103000
DTSTAMP:20260421T022709Z
UID:9476892026-11-01 09:30:00+00:00achurchnearyou
CATEGORIES:
DESCRIPTION:A friendly and less formal service based on a modern liturgy a
 nd suitable for all ages. We use the open space in our north aisle.  We se
 rve coffee or tea and a croissant at 9.00 am and begin the service at 9.30
  am.
GEO:-2.2122;51.572961
LOCATION:Holy Cross  Sherston
URL:https://www.achurchnearyou.com/church/11839/service-and-events/events/
 947689/
END:VEVENT
BEGIN:VEVENT
SUMMARY:Worship Together
DTSTART;TZID=Europe/London:20261206T093000
DTEND;TZID=Europe/London:20261206T103000
DTSTAMP:20260421T022709Z
UID:9476892026-12-06 09:30:00+00:00achurchnearyou
CATEGORIES:
DESCRIPTION:A friendly and less formal service based on a modern liturgy a
 nd suitable for all ages. We use the open space in our north aisle.  We se
 rve coffee or tea and a croissant at 9.00 am and begin the service at 9.30
  am.
GEO:-2.2122;51.572961
LOCATION:Holy Cross  Sherston
URL:https://www.achurchnearyou.com/church/11839/service-and-events/events/
 947689/
END:VEVENT
BEGIN:VEVENT
SUMMARY:Worship Together
DTSTART;TZID=Europe/London:20270103T093000
DTEND;TZID=Europe/London:20270103T103000
DTSTAMP:20260421T022709Z
UID:9476892027-01-03 09:30:00+00:00achurchnearyou
CATEGORIES:
DESCRIPTION:A friendly and less formal service based on a modern liturgy a
 nd suitable for all ages. We use the open space in our north aisle.  We se
 rve coffee or tea and a croissant at 9.00 am and begin the service at 9.30
  am.
GEO:-2.2122;51.572961
LOCATION:Holy Cross  Sherston
URL:https://www.achurchnearyou.com/church/11839/service-and-events/events/
 947689/
END:VEVENT
BEGIN:VEVENT
SUMMARY:Worship Together
DTSTART;TZID=Europe/London:20270207T093000
DTEND;TZID=Europe/London:20270207T103000
DTSTAMP:20260421T022709Z
UID:9476892027-02-07 09:30:00+00:00achurchnearyou
CATEGORIES:
DESCRIPTION:A friendly and less formal service based on a modern liturgy a
 nd suitable for all ages. We use the open space in our north aisle.  We se
 rve coffee or tea and a croissant at 9.00 am and begin the service at 9.30
  am.
GEO:-2.2122;51.572961
LOCATION:Holy Cross  Sherston
URL:https://www.achurchnearyou.com/church/11839/service-and-events/events/
 947689/
END:VEVENT
BEGIN:VEVENT
SUMMARY:Worship Together
DTSTART;TZID=Europe/London:20270307T093000
DTEND;TZID=Europe/London:20270307T103000
DTSTAMP:20260421T022709Z
UID:9476892027-03-07 09:30:00+00:00achurchnearyou
CATEGORIES:
DESCRIPTION:A friendly and less formal service based on a modern liturgy a
 nd suitable for all ages. We use the open space in our north aisle.  We se
 rve coffee or tea and a croissant at 9.00 am and begin the service at 9.30
  am.
GEO:-2.2122;51.572961
LOCATION:Holy Cross  Sherston
URL:https://www.achurchnearyou.com/church/11839/service-and-events/events/
 947689/
END:VEVENT
BEGIN:VEVENT
SUMMARY:Worship Together
DTSTART;TZID=Europe/London:20270404T093000
DTEND;TZID=Europe/London:20270404T103000
DTSTAMP:20260421T022709Z
UID:9476892027-04-04 09:30:00+01:00achurchnearyou
CATEGORIES:
DESCRIPTION:A friendly and less formal service based on a modern liturgy a
 nd suitable for all ages. We use the open space in our north aisle.  We se
 rve coffee or tea and a croissant at 9.00 am and begin the service at 9.30
  am.
GEO:-2.2122;51.572961
LOCATION:Holy Cross  Sherston
URL:https://www.achurchnearyou.com/church/11839/service-and-events/events/
 947689/
END:VEVENT
END:VCALENDAR
