BEGIN:VCALENDAR
VERSION:2.0
PRODID:-//achurchnearyou.com//eventfeed//EN
CALSCALE:GREGORIAN
METHOD:PUBLISH
X-WR-TIMEZONE:UTC
BEGIN:VEVENT
SUMMARY:Morning Prayer Reflective Service
DTSTART:20241229T100000Z
DTEND:20241229T104500Z
DTSTAMP:20260425T132702Z
UID:11318692024-12-29 10:00:00+00:00achurchnearyou
CATEGORIES:
DESCRIPTION:A quiet post-Christmas reflective service to journey towards 2
 025.
GEO:-1.780508;51.615408
LOCATION:St Leonard's Church Broad Blunsdon
URL:https://www.achurchnearyou.com/church/11846/service-and-events/events/
 1131869/
END:VEVENT
END:VCALENDAR
