BEGIN:VCALENDAR
VERSION:2.0
PRODID:-//achurchnearyou.com//eventfeed//EN
CALSCALE:GREGORIAN
METHOD:PUBLISH
X-WR-TIMEZONE:UTC
BEGIN:VEVENT
SUMMARY:Palm Sunday Eucharist †
DTSTART:20250413T100000Z
DTEND:20250413T111500Z
DTSTAMP:20260420T165120Z
UID:11800822025-04-13 10:00:00+00:00achurchnearyou
CATEGORIES:
DESCRIPTION:† Live streamed on our YouTube channel
GEO:1.083055;51.279702
LOCATION:Canterbury Cathedral
URL:https://www.canterbury-cathedral.org/easter/
END:VEVENT
END:VCALENDAR
