BEGIN:VCALENDAR
VERSION:2.0
PRODID:-//achurchnearyou.com//eventfeed//EN
CALSCALE:GREGORIAN
METHOD:PUBLISH
X-WR-TIMEZONE:UTC
BEGIN:VEVENT
SUMMARY:Sung Eucharist for All Saints' Day †
DTSTART:20251101T173000Z
DTEND:20251101T181500Z
DTSTAMP:20260420T032606Z
UID:12386412025-11-01 17:30:00+00:00achurchnearyou
CATEGORIES:
DESCRIPTION:in the Quire\n\n† Livestreamed on our YouTube channel
GEO:1.083055;51.279702
LOCATION:Canterbury Cathedral
URL:https://www.canterbury-cathedral.org/worship/our-services/#special-ser
 vices
END:VEVENT
END:VCALENDAR
