BEGIN:VCALENDAR
VERSION:2.0
PRODID:-//achurchnearyou.com//eventfeed//EN
CALSCALE:GREGORIAN
METHOD:PUBLISH
X-WR-TIMEZONE:UTC
BEGIN:VEVENT
SUMMARY:SEASONAL QUIET DAY: Advent with Julian of Norwich: 'Fear\, Hope an
 d Love'
DTSTART:20251129T100000Z
DTEND:20251129T160000Z
DTSTAMP:20260420T032604Z
UID:12417872025-11-29 10:00:00+00:00achurchnearyou
CATEGORIES:
DESCRIPTION:An opportunity to find space for quiet and reflection\, before
  the countdown to Christmas\, aligning with our Advent and Christmas theme
  for this year - ‘Hope’.\n\nThe day will include three talks\, accompa
 nied by quiet times in some of the loveliest and least-known Cathedral cha
 pels.\n\n£12 per person\; with free Cathedral entry.\n\nBooking essential
 \, as spaces are limited.\n\nThose in receipt of Universal Credit or with 
 refugee status are welcome to attend this quiet day for free (upon verific
 ation of status) - enquire via email to book for free.
GEO:1.083055;51.279702
LOCATION:Canterbury Cathedral
URL:https://www.canterbury-cathedral.org/whats-on/events/29nov25-advent-wi
 th-julian-of-norwich-fear-hope-and-love
END:VEVENT
END:VCALENDAR
