BEGIN:VCALENDAR
VERSION:2.0
PRODID:-//achurchnearyou.com//eventfeed//EN
CALSCALE:GREGORIAN
METHOD:PUBLISH
X-WR-TIMEZONE:UTC
BEGIN:VEVENT
SUMMARY:Family Crib Service
DTSTART:20251224T100000Z
DTEND:20251224T104500Z
DTSTAMP:20260420T012736Z
UID:12419922025-12-24 10:00:00+00:00achurchnearyou
CATEGORIES:
DESCRIPTION:A short\, joyful service for children and families tells the s
 tory of the birth of Jesus\, with music from the Cathedral Choral Scholars
  and the singing of traditional Christmas Carols.\n\nIn person only.\n\nPl
 ease read essential information before attending.
GEO:1.083055;51.279702
LOCATION:Canterbury Cathedral
URL:https://www.canterbury-cathedral.org/advent-and-christmas-2025/#servic
 es
END:VEVENT
END:VCALENDAR
