BEGIN:VCALENDAR
VERSION:2.0
PRODID:-//achurchnearyou.com//eventfeed//EN
CALSCALE:GREGORIAN
METHOD:PUBLISH
X-WR-TIMEZONE:UTC
BEGIN:VEVENT
SUMMARY:Liturgy of Maundy Thursday with Foot Washing †
DTSTART:20260402T183000Z
DTEND:20260402T210000Z
DTSTAMP:20260419T181843Z
UID:13048872026-04-02 18:30:00+00:00achurchnearyou
CATEGORIES:
DESCRIPTION:with the Rt Revd Martin Seeley\; and Vigil until 22:00\n\n† 
 Livestreamed on our YouTube Channel.
GEO:1.083055;51.279702
LOCATION:Canterbury Cathedral
URL:https://www.canterbury-cathedral.org/worship/easter/
END:VEVENT
END:VCALENDAR
