BEGIN:VCALENDAR
VERSION:2.0
PRODID:-//achurchnearyou.com//eventfeed//EN
CALSCALE:GREGORIAN
METHOD:PUBLISH
X-WR-TIMEZONE:UTC
BEGIN:VEVENT
SUMMARY:Good Friday Reflections †
DTSTART:20260403T110000Z
DTEND:20260403T120000Z
DTSTAMP:20260419T181910Z
UID:13048892026-04-03 11:00:00+00:00achurchnearyou
CATEGORIES:
DESCRIPTION:led by the Rt Revd Martin Seeley\n\n† Livestreamed on our Yo
 uTube Channel.
GEO:1.083055;51.279702
LOCATION:Canterbury Cathedral
URL:https://www.canterbury-cathedral.org/worship/easter/
END:VEVENT
END:VCALENDAR
