BEGIN:VCALENDAR
VERSION:2.0
PRODID:-//achurchnearyou.com//eventfeed//EN
CALSCALE:GREGORIAN
METHOD:PUBLISH
X-WR-TIMEZONE:UTC
BEGIN:VEVENT
SUMMARY:Family Worship
DTSTART:20250427T093000Z
DTEND:20250427T103000Z
DTSTAMP:20260421T184826Z
UID:11856262025-04-27 09:30:00+00:00achurchnearyou
CATEGORIES:
DESCRIPTION:All age worship\, everyone welcome
GEO:1.262203;51.200499
LOCATION:St Peter & St Paul Eythorne and Elvington with Waldershare
URL:https://www.achurchnearyou.com/church/11937/service-and-events/events/
 1185626/
END:VEVENT
END:VCALENDAR
