BEGIN:VCALENDAR
VERSION:2.0
PRODID:-//achurchnearyou.com//eventfeed//EN
CALSCALE:GREGORIAN
METHOD:PUBLISH
X-WR-TIMEZONE:UTC
BEGIN:VEVENT
SUMMARY:Little Dragons
DTSTART;TZID=Europe/London:20260502T100000
DTEND;TZID=Europe/London:20260502T110000
DTSTAMP:20260424T125541Z
UID:1619372026-05-02 10:00:00+01:00achurchnearyou
CATEGORIES:
DESCRIPTION:A specially designed relaxed session for families and children
 \, with a story/conversation time\, craft and gentle worship to round off 
 the morning.  Refreshments are served for all.
GEO:1.372386;51.153753
LOCATION:St Margaret of Antioch
URL:http://www.stmargaretsbenefice.org.uk/5.html
END:VEVENT
BEGIN:VEVENT
SUMMARY:Little Dragons
DTSTART;TZID=Europe/London:20260606T100000
DTEND;TZID=Europe/London:20260606T110000
DTSTAMP:20260424T125541Z
UID:1619372026-06-06 10:00:00+01:00achurchnearyou
CATEGORIES:
DESCRIPTION:A specially designed relaxed session for families and children
 \, with a story/conversation time\, craft and gentle worship to round off 
 the morning.  Refreshments are served for all.
GEO:1.372386;51.153753
LOCATION:St Margaret of Antioch
URL:http://www.stmargaretsbenefice.org.uk/5.html
END:VEVENT
BEGIN:VEVENT
SUMMARY:Little Dragons
DTSTART;TZID=Europe/London:20260704T100000
DTEND;TZID=Europe/London:20260704T110000
DTSTAMP:20260424T125541Z
UID:1619372026-07-04 10:00:00+01:00achurchnearyou
CATEGORIES:
DESCRIPTION:A specially designed relaxed session for families and children
 \, with a story/conversation time\, craft and gentle worship to round off 
 the morning.  Refreshments are served for all.
GEO:1.372386;51.153753
LOCATION:St Margaret of Antioch
URL:http://www.stmargaretsbenefice.org.uk/5.html
END:VEVENT
BEGIN:VEVENT
SUMMARY:Little Dragons
DTSTART;TZID=Europe/London:20260905T100000
DTEND;TZID=Europe/London:20260905T110000
DTSTAMP:20260424T125541Z
UID:1619372026-09-05 10:00:00+01:00achurchnearyou
CATEGORIES:
DESCRIPTION:A specially designed relaxed session for families and children
 \, with a story/conversation time\, craft and gentle worship to round off 
 the morning.  Refreshments are served for all.
GEO:1.372386;51.153753
LOCATION:St Margaret of Antioch
URL:http://www.stmargaretsbenefice.org.uk/5.html
END:VEVENT
BEGIN:VEVENT
SUMMARY:Little Dragons
DTSTART;TZID=Europe/London:20261003T100000
DTEND;TZID=Europe/London:20261003T110000
DTSTAMP:20260424T125541Z
UID:1619372026-10-03 10:00:00+01:00achurchnearyou
CATEGORIES:
DESCRIPTION:A specially designed relaxed session for families and children
 \, with a story/conversation time\, craft and gentle worship to round off 
 the morning.  Refreshments are served for all.
GEO:1.372386;51.153753
LOCATION:St Margaret of Antioch
URL:http://www.stmargaretsbenefice.org.uk/5.html
END:VEVENT
BEGIN:VEVENT
SUMMARY:Little Dragons
DTSTART;TZID=Europe/London:20261107T100000
DTEND;TZID=Europe/London:20261107T110000
DTSTAMP:20260424T125541Z
UID:1619372026-11-07 10:00:00+00:00achurchnearyou
CATEGORIES:
DESCRIPTION:A specially designed relaxed session for families and children
 \, with a story/conversation time\, craft and gentle worship to round off 
 the morning.  Refreshments are served for all.
GEO:1.372386;51.153753
LOCATION:St Margaret of Antioch
URL:http://www.stmargaretsbenefice.org.uk/5.html
END:VEVENT
BEGIN:VEVENT
SUMMARY:Little Dragons
DTSTART;TZID=Europe/London:20261205T100000
DTEND;TZID=Europe/London:20261205T110000
DTSTAMP:20260424T125541Z
UID:1619372026-12-05 10:00:00+00:00achurchnearyou
CATEGORIES:
DESCRIPTION:A specially designed relaxed session for families and children
 \, with a story/conversation time\, craft and gentle worship to round off 
 the morning.  Refreshments are served for all.
GEO:1.372386;51.153753
LOCATION:St Margaret of Antioch
URL:http://www.stmargaretsbenefice.org.uk/5.html
END:VEVENT
BEGIN:VEVENT
SUMMARY:Little Dragons
DTSTART;TZID=Europe/London:20270102T100000
DTEND;TZID=Europe/London:20270102T110000
DTSTAMP:20260424T125541Z
UID:1619372027-01-02 10:00:00+00:00achurchnearyou
CATEGORIES:
DESCRIPTION:A specially designed relaxed session for families and children
 \, with a story/conversation time\, craft and gentle worship to round off 
 the morning.  Refreshments are served for all.
GEO:1.372386;51.153753
LOCATION:St Margaret of Antioch
URL:http://www.stmargaretsbenefice.org.uk/5.html
END:VEVENT
BEGIN:VEVENT
SUMMARY:Little Dragons
DTSTART;TZID=Europe/London:20270206T100000
DTEND;TZID=Europe/London:20270206T110000
DTSTAMP:20260424T125541Z
UID:1619372027-02-06 10:00:00+00:00achurchnearyou
CATEGORIES:
DESCRIPTION:A specially designed relaxed session for families and children
 \, with a story/conversation time\, craft and gentle worship to round off 
 the morning.  Refreshments are served for all.
GEO:1.372386;51.153753
LOCATION:St Margaret of Antioch
URL:http://www.stmargaretsbenefice.org.uk/5.html
END:VEVENT
BEGIN:VEVENT
SUMMARY:Little Dragons
DTSTART;TZID=Europe/London:20270306T100000
DTEND;TZID=Europe/London:20270306T110000
DTSTAMP:20260424T125541Z
UID:1619372027-03-06 10:00:00+00:00achurchnearyou
CATEGORIES:
DESCRIPTION:A specially designed relaxed session for families and children
 \, with a story/conversation time\, craft and gentle worship to round off 
 the morning.  Refreshments are served for all.
GEO:1.372386;51.153753
LOCATION:St Margaret of Antioch
URL:http://www.stmargaretsbenefice.org.uk/5.html
END:VEVENT
BEGIN:VEVENT
SUMMARY:Little Dragons
DTSTART;TZID=Europe/London:20270403T100000
DTEND;TZID=Europe/London:20270403T110000
DTSTAMP:20260424T125541Z
UID:1619372027-04-03 10:00:00+01:00achurchnearyou
CATEGORIES:
DESCRIPTION:A specially designed relaxed session for families and children
 \, with a story/conversation time\, craft and gentle worship to round off 
 the morning.  Refreshments are served for all.
GEO:1.372386;51.153753
LOCATION:St Margaret of Antioch
URL:http://www.stmargaretsbenefice.org.uk/5.html
END:VEVENT
END:VCALENDAR
