BEGIN:VCALENDAR
VERSION:2.0
PRODID:-//achurchnearyou.com//eventfeed//EN
CALSCALE:GREGORIAN
METHOD:PUBLISH
X-WR-TIMEZONE:UTC
BEGIN:VEVENT
SUMMARY:Easter Day
DTSTART:20260405T083000Z
DTEND:20260405T093000Z
DTSTAMP:20260422T001909Z
UID:13072142026-04-05 08:30:00+00:00achurchnearyou
CATEGORIES:
DESCRIPTION:A service of Holy Communion
GEO:1.134574;51.137321
LOCATION:St Martin\, Acrise
URL:https://www.achurchnearyou.com/church/11948/service-and-events/events/
 1307214/
END:VEVENT
END:VCALENDAR
