BEGIN:VCALENDAR
VERSION:2.0
PRODID:-//achurchnearyou.com//eventfeed//EN
CALSCALE:GREGORIAN
METHOD:PUBLISH
X-WR-TIMEZONE:UTC
BEGIN:VEVENT
SUMMARY:Acrise Community Day
DTSTART:20260418T100000Z
DTEND:20260418T150000Z
DTSTAMP:20260422T000910Z
UID:13244152026-04-18 10:00:00+00:00achurchnearyou
CATEGORIES:
DESCRIPTION:Lunches of soup will be served\, plus drinks and other refresh
 ments\, including cakes and savouries available all day.\nStalls selling b
 ooks\, church merchandise\, craft goods\, jams and chutneys\, and good qua
 lity pre-loved items.
GEO:1.134574;51.137321
LOCATION:St Martin\, Acrise
URL:https://www.achurchnearyou.com/church/11948/service-and-events/events/
 1324415/
END:VEVENT
END:VCALENDAR
