BEGIN:VCALENDAR
VERSION:2.0
PRODID:-//achurchnearyou.com//eventfeed//EN
CALSCALE:GREGORIAN
METHOD:PUBLISH
X-WR-TIMEZONE:UTC
BEGIN:VEVENT
SUMMARY:Rogation Walk
DTSTART:20250525T074500Z
DTEND:20250525T120000Z
DTSTAMP:20260422T233420Z
UID:11971202025-05-25 07:45:00+00:00achurchnearyou
CATEGORIES:
DESCRIPTION:Starting at St Mary's in Elham and ending in Wootton. Some ste
 ep hills. Comfort stops available along the route. Please take a picnic or
  you may wish to arrange a pub lunch. You will need to make arrangements f
 or your return journey\, or\, you can walk back to Elham
GEO:1.111931;51.152173
LOCATION:St Mary the Virgin
URL:https://www.achurchnearyou.com/church/11953/service-and-events/events/
 1197120/
END:VEVENT
END:VCALENDAR
