BEGIN:VCALENDAR
VERSION:2.0
PRODID:-//achurchnearyou.com//eventfeed//EN
CALSCALE:GREGORIAN
METHOD:PUBLISH
X-WR-TIMEZONE:UTC
BEGIN:VEVENT
SUMMARY:Churches Together Carol Service
DTSTART:20251221T170000Z
DTEND:20251221T180000Z
DTSTAMP:20260422T101939Z
UID:12593542025-12-21 17:00:00+00:00achurchnearyou
CATEGORIES:
DESCRIPTION:St Mary's and the Methodist Church join together for a Carol S
 ervice
LOCATION:Elham Methodist Church
URL:https://www.achurchnearyou.com/church/11953/service-and-events/events/
 1259354/
END:VEVENT
END:VCALENDAR
