BEGIN:VCALENDAR
VERSION:2.0
PRODID:-//achurchnearyou.com//eventfeed//EN
CALSCALE:GREGORIAN
METHOD:PUBLISH
X-WR-TIMEZONE:UTC
BEGIN:VEVENT
SUMMARY:Benefice Eucharist for Christmas Morning
DTSTART:20251225T100000Z
DTEND:20251225T110000Z
DTSTAMP:20260422T101739Z
UID:12593972025-12-25 10:00:00+00:00achurchnearyou
CATEGORIES:
DESCRIPTION:A service of Holy Communion to celebrate the birth of Jesus
GEO:1.111931;51.152173
LOCATION:St Mary the Virgin
URL:https://www.achurchnearyou.com/church/11953/service-and-events/events/
 1259397/
END:VEVENT
END:VCALENDAR
