BEGIN:VCALENDAR
VERSION:2.0
PRODID:-//achurchnearyou.com//eventfeed//EN
CALSCALE:GREGORIAN
METHOD:PUBLISH
X-WR-TIMEZONE:UTC
BEGIN:VEVENT
SUMMARY:Nine Lessons and Carols
DTSTART:20251221T160000Z
DTEND:20251221T173000Z
DTSTAMP:20260424T042752Z
UID:11200812025-12-21 16:00:00+00:00achurchnearyou
CATEGORIES:
DESCRIPTION:Traditional Music and Readings
LOCATION:St Mary & St Eanswythe
URL:https://www.achurchnearyou.com/church/11957/service-and-events/events/
 1120081/
END:VEVENT
END:VCALENDAR
