BEGIN:VCALENDAR
VERSION:2.0
PRODID:-//achurchnearyou.com//eventfeed//EN
CALSCALE:GREGORIAN
METHOD:PUBLISH
X-WR-TIMEZONE:UTC
BEGIN:VEVENT
SUMMARY:Children's Church
DTSTART;TZID=Europe/London:20260510T100000
DTEND;TZID=Europe/London:20260510T111500
DTSTAMP:20260423T165118Z
UID:11925922026-05-10 10:00:00+01:00achurchnearyou
CATEGORIES:
DESCRIPTION:A regular monthly session as part of our Sunday Morning Servic
 e. Whilst the grown ups remain in church for the Bible readings and sermon
 \, children go out to the meeting room in the vestry for songs\, story and
  craft to help learn the story in a different way. Children then come back
  in for the Communion part of the service. Children under 5 need to be acc
 ompanied by a responsible adult.
GEO:1.181723;51.078728
LOCATION:St Mary & St Eanswythe
URL:https://www.achurchnearyou.com/church/11957/service-and-events/events/
 1192592/
END:VEVENT
BEGIN:VEVENT
SUMMARY:Children's Church
DTSTART;TZID=Europe/London:20260614T100000
DTEND;TZID=Europe/London:20260614T111500
DTSTAMP:20260423T165118Z
UID:11925922026-06-14 10:00:00+01:00achurchnearyou
CATEGORIES:
DESCRIPTION:A regular monthly session as part of our Sunday Morning Servic
 e. Whilst the grown ups remain in church for the Bible readings and sermon
 \, children go out to the meeting room in the vestry for songs\, story and
  craft to help learn the story in a different way. Children then come back
  in for the Communion part of the service. Children under 5 need to be acc
 ompanied by a responsible adult.
GEO:1.181723;51.078728
LOCATION:St Mary & St Eanswythe
URL:https://www.achurchnearyou.com/church/11957/service-and-events/events/
 1192592/
END:VEVENT
BEGIN:VEVENT
SUMMARY:Children's Church
DTSTART;TZID=Europe/London:20260712T100000
DTEND;TZID=Europe/London:20260712T111500
DTSTAMP:20260423T165118Z
UID:11925922026-07-12 10:00:00+01:00achurchnearyou
CATEGORIES:
DESCRIPTION:A regular monthly session as part of our Sunday Morning Servic
 e. Whilst the grown ups remain in church for the Bible readings and sermon
 \, children go out to the meeting room in the vestry for songs\, story and
  craft to help learn the story in a different way. Children then come back
  in for the Communion part of the service. Children under 5 need to be acc
 ompanied by a responsible adult.
GEO:1.181723;51.078728
LOCATION:St Mary & St Eanswythe
URL:https://www.achurchnearyou.com/church/11957/service-and-events/events/
 1192592/
END:VEVENT
BEGIN:VEVENT
SUMMARY:Children's Church
DTSTART;TZID=Europe/London:20260809T100000
DTEND;TZID=Europe/London:20260809T111500
DTSTAMP:20260423T165118Z
UID:11925922026-08-09 10:00:00+01:00achurchnearyou
CATEGORIES:
DESCRIPTION:A regular monthly session as part of our Sunday Morning Servic
 e. Whilst the grown ups remain in church for the Bible readings and sermon
 \, children go out to the meeting room in the vestry for songs\, story and
  craft to help learn the story in a different way. Children then come back
  in for the Communion part of the service. Children under 5 need to be acc
 ompanied by a responsible adult.
GEO:1.181723;51.078728
LOCATION:St Mary & St Eanswythe
URL:https://www.achurchnearyou.com/church/11957/service-and-events/events/
 1192592/
END:VEVENT
BEGIN:VEVENT
SUMMARY:Children's Church
DTSTART;TZID=Europe/London:20260913T100000
DTEND;TZID=Europe/London:20260913T111500
DTSTAMP:20260423T165118Z
UID:11925922026-09-13 10:00:00+01:00achurchnearyou
CATEGORIES:
DESCRIPTION:A regular monthly session as part of our Sunday Morning Servic
 e. Whilst the grown ups remain in church for the Bible readings and sermon
 \, children go out to the meeting room in the vestry for songs\, story and
  craft to help learn the story in a different way. Children then come back
  in for the Communion part of the service. Children under 5 need to be acc
 ompanied by a responsible adult.
GEO:1.181723;51.078728
LOCATION:St Mary & St Eanswythe
URL:https://www.achurchnearyou.com/church/11957/service-and-events/events/
 1192592/
END:VEVENT
BEGIN:VEVENT
SUMMARY:Children's Church
DTSTART;TZID=Europe/London:20261011T100000
DTEND;TZID=Europe/London:20261011T111500
DTSTAMP:20260423T165118Z
UID:11925922026-10-11 10:00:00+01:00achurchnearyou
CATEGORIES:
DESCRIPTION:A regular monthly session as part of our Sunday Morning Servic
 e. Whilst the grown ups remain in church for the Bible readings and sermon
 \, children go out to the meeting room in the vestry for songs\, story and
  craft to help learn the story in a different way. Children then come back
  in for the Communion part of the service. Children under 5 need to be acc
 ompanied by a responsible adult.
GEO:1.181723;51.078728
LOCATION:St Mary & St Eanswythe
URL:https://www.achurchnearyou.com/church/11957/service-and-events/events/
 1192592/
END:VEVENT
BEGIN:VEVENT
SUMMARY:Children's Church
DTSTART;TZID=Europe/London:20261108T100000
DTEND;TZID=Europe/London:20261108T111500
DTSTAMP:20260423T165118Z
UID:11925922026-11-08 10:00:00+00:00achurchnearyou
CATEGORIES:
DESCRIPTION:A regular monthly session as part of our Sunday Morning Servic
 e. Whilst the grown ups remain in church for the Bible readings and sermon
 \, children go out to the meeting room in the vestry for songs\, story and
  craft to help learn the story in a different way. Children then come back
  in for the Communion part of the service. Children under 5 need to be acc
 ompanied by a responsible adult.
GEO:1.181723;51.078728
LOCATION:St Mary & St Eanswythe
URL:https://www.achurchnearyou.com/church/11957/service-and-events/events/
 1192592/
END:VEVENT
BEGIN:VEVENT
SUMMARY:Children's Church
DTSTART;TZID=Europe/London:20261213T100000
DTEND;TZID=Europe/London:20261213T111500
DTSTAMP:20260423T165118Z
UID:11925922026-12-13 10:00:00+00:00achurchnearyou
CATEGORIES:
DESCRIPTION:A regular monthly session as part of our Sunday Morning Servic
 e. Whilst the grown ups remain in church for the Bible readings and sermon
 \, children go out to the meeting room in the vestry for songs\, story and
  craft to help learn the story in a different way. Children then come back
  in for the Communion part of the service. Children under 5 need to be acc
 ompanied by a responsible adult.
GEO:1.181723;51.078728
LOCATION:St Mary & St Eanswythe
URL:https://www.achurchnearyou.com/church/11957/service-and-events/events/
 1192592/
END:VEVENT
BEGIN:VEVENT
SUMMARY:Children's Church
DTSTART;TZID=Europe/London:20270110T100000
DTEND;TZID=Europe/London:20270110T111500
DTSTAMP:20260423T165118Z
UID:11925922027-01-10 10:00:00+00:00achurchnearyou
CATEGORIES:
DESCRIPTION:A regular monthly session as part of our Sunday Morning Servic
 e. Whilst the grown ups remain in church for the Bible readings and sermon
 \, children go out to the meeting room in the vestry for songs\, story and
  craft to help learn the story in a different way. Children then come back
  in for the Communion part of the service. Children under 5 need to be acc
 ompanied by a responsible adult.
GEO:1.181723;51.078728
LOCATION:St Mary & St Eanswythe
URL:https://www.achurchnearyou.com/church/11957/service-and-events/events/
 1192592/
END:VEVENT
BEGIN:VEVENT
SUMMARY:Children's Church
DTSTART;TZID=Europe/London:20270214T100000
DTEND;TZID=Europe/London:20270214T111500
DTSTAMP:20260423T165118Z
UID:11925922027-02-14 10:00:00+00:00achurchnearyou
CATEGORIES:
DESCRIPTION:A regular monthly session as part of our Sunday Morning Servic
 e. Whilst the grown ups remain in church for the Bible readings and sermon
 \, children go out to the meeting room in the vestry for songs\, story and
  craft to help learn the story in a different way. Children then come back
  in for the Communion part of the service. Children under 5 need to be acc
 ompanied by a responsible adult.
GEO:1.181723;51.078728
LOCATION:St Mary & St Eanswythe
URL:https://www.achurchnearyou.com/church/11957/service-and-events/events/
 1192592/
END:VEVENT
BEGIN:VEVENT
SUMMARY:Children's Church
DTSTART;TZID=Europe/London:20270314T100000
DTEND;TZID=Europe/London:20270314T111500
DTSTAMP:20260423T165118Z
UID:11925922027-03-14 10:00:00+00:00achurchnearyou
CATEGORIES:
DESCRIPTION:A regular monthly session as part of our Sunday Morning Servic
 e. Whilst the grown ups remain in church for the Bible readings and sermon
 \, children go out to the meeting room in the vestry for songs\, story and
  craft to help learn the story in a different way. Children then come back
  in for the Communion part of the service. Children under 5 need to be acc
 ompanied by a responsible adult.
GEO:1.181723;51.078728
LOCATION:St Mary & St Eanswythe
URL:https://www.achurchnearyou.com/church/11957/service-and-events/events/
 1192592/
END:VEVENT
BEGIN:VEVENT
SUMMARY:Children's Church
DTSTART;TZID=Europe/London:20270411T100000
DTEND;TZID=Europe/London:20270411T111500
DTSTAMP:20260423T165118Z
UID:11925922027-04-11 10:00:00+01:00achurchnearyou
CATEGORIES:
DESCRIPTION:A regular monthly session as part of our Sunday Morning Servic
 e. Whilst the grown ups remain in church for the Bible readings and sermon
 \, children go out to the meeting room in the vestry for songs\, story and
  craft to help learn the story in a different way. Children then come back
  in for the Communion part of the service. Children under 5 need to be acc
 ompanied by a responsible adult.
GEO:1.181723;51.078728
LOCATION:St Mary & St Eanswythe
URL:https://www.achurchnearyou.com/church/11957/service-and-events/events/
 1192592/
END:VEVENT
END:VCALENDAR
