BEGIN:VCALENDAR
VERSION:2.0
PRODID:-//achurchnearyou.com//eventfeed//EN
CALSCALE:GREGORIAN
METHOD:PUBLISH
X-WR-TIMEZONE:UTC
BEGIN:VEVENT
SUMMARY:80th Anniversary of VE Day
DTSTART:20250508T163000Z
DTEND:20250508T173000Z
DTSTAMP:20260424T223819Z
UID:11971232025-05-08 16:30:00+00:00achurchnearyou
CATEGORIES:
DESCRIPTION:A service in church - A shared moment of celebration.
GEO:1.087005;51.126266
LOCATION:St Mary & St Ethelburga
URL:https://www.achurchnearyou.com/church/11964/service-and-events/events/
 1197123/
END:VEVENT
END:VCALENDAR
