BEGIN:VCALENDAR
VERSION:2.0
PRODID:-//achurchnearyou.com//eventfeed//EN
CALSCALE:GREGORIAN
METHOD:PUBLISH
X-WR-TIMEZONE:UTC
BEGIN:VEVENT
SUMMARY:Festival Mass for Easter Day
DTSTART:20260405T093000Z
DTEND:20260405T110000Z
DTSTAMP:20260423T120137Z
UID:5002742026-04-05 09:30:00+00:00achurchnearyou
CATEGORIES:
DESCRIPTION:Mass with Hymns. Family friendly.
GEO:-0.690486;51.411517
LOCATION:Ascot Heath All Saints
URL:https://all-saints-ascot.org/news-page/easter-services/
END:VEVENT
END:VCALENDAR
