BEGIN:VCALENDAR
VERSION:2.0
PRODID:-//achurchnearyou.com//eventfeed//EN
CALSCALE:GREGORIAN
METHOD:PUBLISH
X-WR-TIMEZONE:UTC
BEGIN:VEVENT
SUMMARY:Dawn Service
DTSTART:20260404T050000Z
DTEND:20260404T060000Z
DTSTAMP:20260419T161655Z
UID:12990682026-04-04 05:00:00+00:00achurchnearyou
CATEGORIES:
DESCRIPTION:Dawn service beginning outside of church with an easter fire. 
 Communion Service followed by bacon rolls.
GEO:-0.863703;51.367739
LOCATION:PFC St James\, Finchampstead
URL:https://www.achurchnearyou.com/church/120/service-and-events/events/12
 99068/
END:VEVENT
END:VCALENDAR
