BEGIN:VCALENDAR
VERSION:2.0
PRODID:-//achurchnearyou.com//eventfeed//EN
CALSCALE:GREGORIAN
METHOD:PUBLISH
X-WR-TIMEZONE:UTC
BEGIN:VEVENT
SUMMARY:Nativity
DTSTART:20251224T150000Z
DTEND:20251224T160000Z
DTSTAMP:20260421T064255Z
UID:12408952025-12-24 15:00:00+00:00achurchnearyou
CATEGORIES:
DESCRIPTION:Come and join the nativity! Dress up and take part as we retel
 l the greatest story every told and journey once again to Bethlehem...
GEO:1.133081;51.349767
LOCATION:St Martin-in-Herne
URL:https://www.achurchnearyou.com/church/12000/service-and-events/events/
 1240895/
END:VEVENT
END:VCALENDAR
