BEGIN:VCALENDAR
VERSION:2.0
PRODID:-//achurchnearyou.com//eventfeed//EN
CALSCALE:GREGORIAN
METHOD:PUBLISH
X-WR-TIMEZONE:UTC
BEGIN:VEVENT
SUMMARY:Midnight Communion
DTSTART:20251224T230000Z
DTEND:20251225T001500Z
DTSTAMP:20260421T064211Z
UID:12409022025-12-24 23:00:00+00:00achurchnearyou
CATEGORIES:
DESCRIPTION:A traditional Midnight Eucharist service for Christmas Eve\, w
 ith carols led by the choir and organ.\nWelcome in Christmas Day and the a
 rrival of the Christ-child!
GEO:1.133081;51.349767
LOCATION:St Martin-in-Herne
URL:https://www.achurchnearyou.com/church/12000/service-and-events/events/
 1240902/
END:VEVENT
END:VCALENDAR
